BEGIN:VCALENDAR
VERSION:2.0
PRODID:-//Ecole - ECPv6.6.4//NONSGML v1.0//EN
CALSCALE:GREGORIAN
METHOD:PUBLISH
X-ORIGINAL-URL:https://ecole.saintjevin.fr
X-WR-CALDESC:évènements pour Ecole
REFRESH-INTERVAL;VALUE=DURATION:PT1H
X-Robots-Tag:noindex
X-PUBLISHED-TTL:PT1H
BEGIN:VTIMEZONE
TZID:Europe/Paris
BEGIN:DAYLIGHT
TZOFFSETFROM:+0100
TZOFFSETTO:+0200
TZNAME:CEST
DTSTART:20290325T010000
END:DAYLIGHT
BEGIN:STANDARD
TZOFFSETFROM:+0200
TZOFFSETTO:+0100
TZNAME:CET
DTSTART:20291028T010000
END:STANDARD
END:VTIMEZONE
BEGIN:VEVENT
DTSTART;TZID=Europe/Paris:20290712T170000
DTEND;TZID=Europe/Paris:20290712T173000
DTSTAMP:20260422T171943
CREATED:20240917T073600Z
LAST-MODIFIED:20240917T073600Z
UID:10009892-1878570000-1878571800@ecole.saintjevin.fr
SUMMARY:Bus scolaire - Collège L.A - 17:05Bus normal - Louis de Vion - 17:09
DESCRIPTION:
URL:https://ecole.saintjevin.fr/event/bus-scolaire-college-l-a-1705bus-normal-louis-de-vion-1709/2029-07-12/
CATEGORIES:Bus soir
END:VEVENT
BEGIN:VEVENT
DTSTART;TZID=Europe/Paris:20290713T170000
DTEND;TZID=Europe/Paris:20290713T173000
DTSTAMP:20260422T171943
CREATED:20240917T073600Z
LAST-MODIFIED:20240917T073600Z
UID:10009893-1878656400-1878658200@ecole.saintjevin.fr
SUMMARY:Bus scolaire - Collège L.A - 17:05Bus normal - Louis de Vion - 17:09
DESCRIPTION:
URL:https://ecole.saintjevin.fr/event/bus-scolaire-college-l-a-1705bus-normal-louis-de-vion-1709/2029-07-13/
CATEGORIES:Bus soir
END:VEVENT
BEGIN:VEVENT
DTSTART;TZID=Europe/Paris:20290716T170000
DTEND;TZID=Europe/Paris:20290716T173000
DTSTAMP:20260422T171943
CREATED:20240917T073600Z
LAST-MODIFIED:20240917T073600Z
UID:10009894-1878915600-1878917400@ecole.saintjevin.fr
SUMMARY:Bus scolaire - Collège L.A - 17:05Bus normal - Louis de Vion - 17:09
DESCRIPTION:
URL:https://ecole.saintjevin.fr/event/bus-scolaire-college-l-a-1705bus-normal-louis-de-vion-1709/2029-07-16/
CATEGORIES:Bus soir
END:VEVENT
BEGIN:VEVENT
DTSTART;TZID=Europe/Paris:20290719T170000
DTEND;TZID=Europe/Paris:20290719T173000
DTSTAMP:20260422T171943
CREATED:20240917T073600Z
LAST-MODIFIED:20240917T073600Z
UID:10009895-1879174800-1879176600@ecole.saintjevin.fr
SUMMARY:Bus scolaire - Collège L.A - 17:05Bus normal - Louis de Vion - 17:09
DESCRIPTION:
URL:https://ecole.saintjevin.fr/event/bus-scolaire-college-l-a-1705bus-normal-louis-de-vion-1709/2029-07-19/
CATEGORIES:Bus soir
END:VEVENT
BEGIN:VEVENT
DTSTART;TZID=Europe/Paris:20290720T170000
DTEND;TZID=Europe/Paris:20290720T173000
DTSTAMP:20260422T171943
CREATED:20240917T073600Z
LAST-MODIFIED:20240917T073600Z
UID:10009896-1879261200-1879263000@ecole.saintjevin.fr
SUMMARY:Bus scolaire - Collège L.A - 17:05Bus normal - Louis de Vion - 17:09
DESCRIPTION:
URL:https://ecole.saintjevin.fr/event/bus-scolaire-college-l-a-1705bus-normal-louis-de-vion-1709/2029-07-20/
CATEGORIES:Bus soir
END:VEVENT
BEGIN:VEVENT
DTSTART;TZID=Europe/Paris:20290723T170000
DTEND;TZID=Europe/Paris:20290723T173000
DTSTAMP:20260422T171943
CREATED:20240917T073600Z
LAST-MODIFIED:20240917T073600Z
UID:10009897-1879520400-1879522200@ecole.saintjevin.fr
SUMMARY:Bus scolaire - Collège L.A - 17:05Bus normal - Louis de Vion - 17:09
DESCRIPTION:
URL:https://ecole.saintjevin.fr/event/bus-scolaire-college-l-a-1705bus-normal-louis-de-vion-1709/2029-07-23/
CATEGORIES:Bus soir
END:VEVENT
BEGIN:VEVENT
DTSTART;TZID=Europe/Paris:20290726T170000
DTEND;TZID=Europe/Paris:20290726T173000
DTSTAMP:20260422T171943
CREATED:20240917T073600Z
LAST-MODIFIED:20240917T073600Z
UID:10009898-1879779600-1879781400@ecole.saintjevin.fr
SUMMARY:Bus scolaire - Collège L.A - 17:05Bus normal - Louis de Vion - 17:09
DESCRIPTION:
URL:https://ecole.saintjevin.fr/event/bus-scolaire-college-l-a-1705bus-normal-louis-de-vion-1709/2029-07-26/
CATEGORIES:Bus soir
END:VEVENT
BEGIN:VEVENT
DTSTART;TZID=Europe/Paris:20290727T170000
DTEND;TZID=Europe/Paris:20290727T173000
DTSTAMP:20260422T171943
CREATED:20240917T073600Z
LAST-MODIFIED:20240917T073600Z
UID:10009899-1879866000-1879867800@ecole.saintjevin.fr
SUMMARY:Bus scolaire - Collège L.A - 17:05Bus normal - Louis de Vion - 17:09
DESCRIPTION:
URL:https://ecole.saintjevin.fr/event/bus-scolaire-college-l-a-1705bus-normal-louis-de-vion-1709/2029-07-27/
CATEGORIES:Bus soir
END:VEVENT
BEGIN:VEVENT
DTSTART;TZID=Europe/Paris:20290730T170000
DTEND;TZID=Europe/Paris:20290730T173000
DTSTAMP:20260422T171943
CREATED:20240917T073600Z
LAST-MODIFIED:20240917T073600Z
UID:10009900-1880125200-1880127000@ecole.saintjevin.fr
SUMMARY:Bus scolaire - Collège L.A - 17:05Bus normal - Louis de Vion - 17:09
DESCRIPTION:
URL:https://ecole.saintjevin.fr/event/bus-scolaire-college-l-a-1705bus-normal-louis-de-vion-1709/2029-07-30/
CATEGORIES:Bus soir
END:VEVENT
BEGIN:VEVENT
DTSTART;TZID=Europe/Paris:20290802T170000
DTEND;TZID=Europe/Paris:20290802T173000
DTSTAMP:20260422T171943
CREATED:20240917T073600Z
LAST-MODIFIED:20240917T073600Z
UID:10009901-1880384400-1880386200@ecole.saintjevin.fr
SUMMARY:Bus scolaire - Collège L.A - 17:05Bus normal - Louis de Vion - 17:09
DESCRIPTION:
URL:https://ecole.saintjevin.fr/event/bus-scolaire-college-l-a-1705bus-normal-louis-de-vion-1709/2029-08-02/
CATEGORIES:Bus soir
END:VEVENT
BEGIN:VEVENT
DTSTART;TZID=Europe/Paris:20290803T170000
DTEND;TZID=Europe/Paris:20290803T173000
DTSTAMP:20260422T171943
CREATED:20240917T073600Z
LAST-MODIFIED:20240917T073600Z
UID:10009902-1880470800-1880472600@ecole.saintjevin.fr
SUMMARY:Bus scolaire - Collège L.A - 17:05Bus normal - Louis de Vion - 17:09
DESCRIPTION:
URL:https://ecole.saintjevin.fr/event/bus-scolaire-college-l-a-1705bus-normal-louis-de-vion-1709/2029-08-03/
CATEGORIES:Bus soir
END:VEVENT
BEGIN:VEVENT
DTSTART;TZID=Europe/Paris:20290806T170000
DTEND;TZID=Europe/Paris:20290806T173000
DTSTAMP:20260422T171943
CREATED:20240917T073600Z
LAST-MODIFIED:20240917T073600Z
UID:10009903-1880730000-1880731800@ecole.saintjevin.fr
SUMMARY:Bus scolaire - Collège L.A - 17:05Bus normal - Louis de Vion - 17:09
DESCRIPTION:
URL:https://ecole.saintjevin.fr/event/bus-scolaire-college-l-a-1705bus-normal-louis-de-vion-1709/2029-08-06/
CATEGORIES:Bus soir
END:VEVENT
BEGIN:VEVENT
DTSTART;TZID=Europe/Paris:20290809T170000
DTEND;TZID=Europe/Paris:20290809T173000
DTSTAMP:20260422T171943
CREATED:20240917T073600Z
LAST-MODIFIED:20240917T073600Z
UID:10009904-1880989200-1880991000@ecole.saintjevin.fr
SUMMARY:Bus scolaire - Collège L.A - 17:05Bus normal - Louis de Vion - 17:09
DESCRIPTION:
URL:https://ecole.saintjevin.fr/event/bus-scolaire-college-l-a-1705bus-normal-louis-de-vion-1709/2029-08-09/
CATEGORIES:Bus soir
END:VEVENT
BEGIN:VEVENT
DTSTART;TZID=Europe/Paris:20290810T170000
DTEND;TZID=Europe/Paris:20290810T173000
DTSTAMP:20260422T171943
CREATED:20240917T073600Z
LAST-MODIFIED:20240917T073600Z
UID:10009905-1881075600-1881077400@ecole.saintjevin.fr
SUMMARY:Bus scolaire - Collège L.A - 17:05Bus normal - Louis de Vion - 17:09
DESCRIPTION:
URL:https://ecole.saintjevin.fr/event/bus-scolaire-college-l-a-1705bus-normal-louis-de-vion-1709/2029-08-10/
CATEGORIES:Bus soir
END:VEVENT
BEGIN:VEVENT
DTSTART;TZID=Europe/Paris:20290813T170000
DTEND;TZID=Europe/Paris:20290813T173000
DTSTAMP:20260422T171943
CREATED:20240917T073600Z
LAST-MODIFIED:20240917T073600Z
UID:10009906-1881334800-1881336600@ecole.saintjevin.fr
SUMMARY:Bus scolaire - Collège L.A - 17:05Bus normal - Louis de Vion - 17:09
DESCRIPTION:
URL:https://ecole.saintjevin.fr/event/bus-scolaire-college-l-a-1705bus-normal-louis-de-vion-1709/2029-08-13/
CATEGORIES:Bus soir
END:VEVENT
BEGIN:VEVENT
DTSTART;TZID=Europe/Paris:20290816T170000
DTEND;TZID=Europe/Paris:20290816T173000
DTSTAMP:20260422T171943
CREATED:20240917T073600Z
LAST-MODIFIED:20240917T073600Z
UID:10009907-1881594000-1881595800@ecole.saintjevin.fr
SUMMARY:Bus scolaire - Collège L.A - 17:05Bus normal - Louis de Vion - 17:09
DESCRIPTION:
URL:https://ecole.saintjevin.fr/event/bus-scolaire-college-l-a-1705bus-normal-louis-de-vion-1709/2029-08-16/
CATEGORIES:Bus soir
END:VEVENT
BEGIN:VEVENT
DTSTART;TZID=Europe/Paris:20290817T170000
DTEND;TZID=Europe/Paris:20290817T173000
DTSTAMP:20260422T171943
CREATED:20240917T073600Z
LAST-MODIFIED:20240917T073600Z
UID:10009908-1881680400-1881682200@ecole.saintjevin.fr
SUMMARY:Bus scolaire - Collège L.A - 17:05Bus normal - Louis de Vion - 17:09
DESCRIPTION:
URL:https://ecole.saintjevin.fr/event/bus-scolaire-college-l-a-1705bus-normal-louis-de-vion-1709/2029-08-17/
CATEGORIES:Bus soir
END:VEVENT
BEGIN:VEVENT
DTSTART;TZID=Europe/Paris:20290820T170000
DTEND;TZID=Europe/Paris:20290820T173000
DTSTAMP:20260422T171943
CREATED:20240917T073600Z
LAST-MODIFIED:20240917T073600Z
UID:10009909-1881939600-1881941400@ecole.saintjevin.fr
SUMMARY:Bus scolaire - Collège L.A - 17:05Bus normal - Louis de Vion - 17:09
DESCRIPTION:
URL:https://ecole.saintjevin.fr/event/bus-scolaire-college-l-a-1705bus-normal-louis-de-vion-1709/2029-08-20/
CATEGORIES:Bus soir
END:VEVENT
BEGIN:VEVENT
DTSTART;TZID=Europe/Paris:20290823T170000
DTEND;TZID=Europe/Paris:20290823T173000
DTSTAMP:20260422T171943
CREATED:20240917T073600Z
LAST-MODIFIED:20240917T073600Z
UID:10009910-1882198800-1882200600@ecole.saintjevin.fr
SUMMARY:Bus scolaire - Collège L.A - 17:05Bus normal - Louis de Vion - 17:09
DESCRIPTION:
URL:https://ecole.saintjevin.fr/event/bus-scolaire-college-l-a-1705bus-normal-louis-de-vion-1709/2029-08-23/
CATEGORIES:Bus soir
END:VEVENT
BEGIN:VEVENT
DTSTART;TZID=Europe/Paris:20290824T170000
DTEND;TZID=Europe/Paris:20290824T173000
DTSTAMP:20260422T171943
CREATED:20240917T073600Z
LAST-MODIFIED:20240917T073600Z
UID:10009911-1882285200-1882287000@ecole.saintjevin.fr
SUMMARY:Bus scolaire - Collège L.A - 17:05Bus normal - Louis de Vion - 17:09
DESCRIPTION:
URL:https://ecole.saintjevin.fr/event/bus-scolaire-college-l-a-1705bus-normal-louis-de-vion-1709/2029-08-24/
CATEGORIES:Bus soir
END:VEVENT
BEGIN:VEVENT
DTSTART;TZID=Europe/Paris:20290827T170000
DTEND;TZID=Europe/Paris:20290827T173000
DTSTAMP:20260422T171943
CREATED:20240917T073600Z
LAST-MODIFIED:20240917T073600Z
UID:10009912-1882544400-1882546200@ecole.saintjevin.fr
SUMMARY:Bus scolaire - Collège L.A - 17:05Bus normal - Louis de Vion - 17:09
DESCRIPTION:
URL:https://ecole.saintjevin.fr/event/bus-scolaire-college-l-a-1705bus-normal-louis-de-vion-1709/2029-08-27/
CATEGORIES:Bus soir
END:VEVENT
BEGIN:VEVENT
DTSTART;TZID=Europe/Paris:20290830T170000
DTEND;TZID=Europe/Paris:20290830T173000
DTSTAMP:20260422T171943
CREATED:20240917T073600Z
LAST-MODIFIED:20240917T073600Z
UID:10009913-1882803600-1882805400@ecole.saintjevin.fr
SUMMARY:Bus scolaire - Collège L.A - 17:05Bus normal - Louis de Vion - 17:09
DESCRIPTION:
URL:https://ecole.saintjevin.fr/event/bus-scolaire-college-l-a-1705bus-normal-louis-de-vion-1709/2029-08-30/
CATEGORIES:Bus soir
END:VEVENT
BEGIN:VEVENT
DTSTART;TZID=Europe/Paris:20290831T170000
DTEND;TZID=Europe/Paris:20290831T173000
DTSTAMP:20260422T171943
CREATED:20240917T073600Z
LAST-MODIFIED:20240917T073600Z
UID:10009914-1882890000-1882891800@ecole.saintjevin.fr
SUMMARY:Bus scolaire - Collège L.A - 17:05Bus normal - Louis de Vion - 17:09
DESCRIPTION:
URL:https://ecole.saintjevin.fr/event/bus-scolaire-college-l-a-1705bus-normal-louis-de-vion-1709/2029-08-31/
CATEGORIES:Bus soir
END:VEVENT
BEGIN:VEVENT
DTSTART;TZID=Europe/Paris:20290903T170000
DTEND;TZID=Europe/Paris:20290903T173000
DTSTAMP:20260422T171943
CREATED:20240917T073600Z
LAST-MODIFIED:20240917T073600Z
UID:10009915-1883149200-1883151000@ecole.saintjevin.fr
SUMMARY:Bus scolaire - Collège L.A - 17:05Bus normal - Louis de Vion - 17:09
DESCRIPTION:
URL:https://ecole.saintjevin.fr/event/bus-scolaire-college-l-a-1705bus-normal-louis-de-vion-1709/2029-09-03/
CATEGORIES:Bus soir
END:VEVENT
BEGIN:VEVENT
DTSTART;TZID=Europe/Paris:20290906T170000
DTEND;TZID=Europe/Paris:20290906T173000
DTSTAMP:20260422T171943
CREATED:20240917T073600Z
LAST-MODIFIED:20240917T073600Z
UID:10009916-1883408400-1883410200@ecole.saintjevin.fr
SUMMARY:Bus scolaire - Collège L.A - 17:05Bus normal - Louis de Vion - 17:09
DESCRIPTION:
URL:https://ecole.saintjevin.fr/event/bus-scolaire-college-l-a-1705bus-normal-louis-de-vion-1709/2029-09-06/
CATEGORIES:Bus soir
END:VEVENT
BEGIN:VEVENT
DTSTART;TZID=Europe/Paris:20290907T170000
DTEND;TZID=Europe/Paris:20290907T173000
DTSTAMP:20260422T171943
CREATED:20240917T073600Z
LAST-MODIFIED:20240917T073600Z
UID:10009917-1883494800-1883496600@ecole.saintjevin.fr
SUMMARY:Bus scolaire - Collège L.A - 17:05Bus normal - Louis de Vion - 17:09
DESCRIPTION:
URL:https://ecole.saintjevin.fr/event/bus-scolaire-college-l-a-1705bus-normal-louis-de-vion-1709/2029-09-07/
CATEGORIES:Bus soir
END:VEVENT
BEGIN:VEVENT
DTSTART;TZID=Europe/Paris:20290910T170000
DTEND;TZID=Europe/Paris:20290910T173000
DTSTAMP:20260422T171943
CREATED:20240917T073600Z
LAST-MODIFIED:20240917T073600Z
UID:10009918-1883754000-1883755800@ecole.saintjevin.fr
SUMMARY:Bus scolaire - Collège L.A - 17:05Bus normal - Louis de Vion - 17:09
DESCRIPTION:
URL:https://ecole.saintjevin.fr/event/bus-scolaire-college-l-a-1705bus-normal-louis-de-vion-1709/2029-09-10/
CATEGORIES:Bus soir
END:VEVENT
BEGIN:VEVENT
DTSTART;TZID=Europe/Paris:20290913T170000
DTEND;TZID=Europe/Paris:20290913T173000
DTSTAMP:20260422T171943
CREATED:20240917T073600Z
LAST-MODIFIED:20240917T073600Z
UID:10009919-1884013200-1884015000@ecole.saintjevin.fr
SUMMARY:Bus scolaire - Collège L.A - 17:05Bus normal - Louis de Vion - 17:09
DESCRIPTION:
URL:https://ecole.saintjevin.fr/event/bus-scolaire-college-l-a-1705bus-normal-louis-de-vion-1709/2029-09-13/
CATEGORIES:Bus soir
END:VEVENT
BEGIN:VEVENT
DTSTART;TZID=Europe/Paris:20290914T170000
DTEND;TZID=Europe/Paris:20290914T173000
DTSTAMP:20260422T171943
CREATED:20240917T073600Z
LAST-MODIFIED:20240917T073600Z
UID:10009920-1884099600-1884101400@ecole.saintjevin.fr
SUMMARY:Bus scolaire - Collège L.A - 17:05Bus normal - Louis de Vion - 17:09
DESCRIPTION:
URL:https://ecole.saintjevin.fr/event/bus-scolaire-college-l-a-1705bus-normal-louis-de-vion-1709/2029-09-14/
CATEGORIES:Bus soir
END:VEVENT
BEGIN:VEVENT
DTSTART;TZID=Europe/Paris:20290917T170000
DTEND;TZID=Europe/Paris:20290917T173000
DTSTAMP:20260422T171943
CREATED:20240917T073600Z
LAST-MODIFIED:20240917T073600Z
UID:10009921-1884358800-1884360600@ecole.saintjevin.fr
SUMMARY:Bus scolaire - Collège L.A - 17:05Bus normal - Louis de Vion - 17:09
DESCRIPTION:
URL:https://ecole.saintjevin.fr/event/bus-scolaire-college-l-a-1705bus-normal-louis-de-vion-1709/2029-09-17/
CATEGORIES:Bus soir
END:VEVENT
END:VCALENDAR