BEGIN:VCALENDAR
VERSION:2.0
PRODID:-//Ecole - ECPv6.6.4//NONSGML v1.0//EN
CALSCALE:GREGORIAN
METHOD:PUBLISH
X-ORIGINAL-URL:https://ecole.saintjevin.fr
X-WR-CALDESC:évènements pour Ecole
REFRESH-INTERVAL;VALUE=DURATION:PT1H
X-Robots-Tag:noindex
X-PUBLISHED-TTL:PT1H
BEGIN:VTIMEZONE
TZID:Europe/Paris
BEGIN:DAYLIGHT
TZOFFSETFROM:+0100
TZOFFSETTO:+0200
TZNAME:CEST
DTSTART:20290325T010000
END:DAYLIGHT
BEGIN:STANDARD
TZOFFSETFROM:+0200
TZOFFSETTO:+0100
TZNAME:CET
DTSTART:20291028T010000
END:STANDARD
END:VTIMEZONE
BEGIN:VEVENT
DTSTART;TZID=Europe/Paris:20290419T170000
DTEND;TZID=Europe/Paris:20290419T173000
DTSTAMP:20260422T132439
CREATED:20240917T073600Z
LAST-MODIFIED:20240917T073600Z
UID:10009856-1871312400-1871314200@ecole.saintjevin.fr
SUMMARY:Bus scolaire - Collège L.A - 17:05Bus normal - Louis de Vion - 17:09
DESCRIPTION:
URL:https://ecole.saintjevin.fr/event/bus-scolaire-college-l-a-1705bus-normal-louis-de-vion-1709/2029-04-19/
CATEGORIES:Bus soir
END:VEVENT
BEGIN:VEVENT
DTSTART;TZID=Europe/Paris:20290420T170000
DTEND;TZID=Europe/Paris:20290420T173000
DTSTAMP:20260422T132439
CREATED:20240917T073600Z
LAST-MODIFIED:20240917T073600Z
UID:10009857-1871398800-1871400600@ecole.saintjevin.fr
SUMMARY:Bus scolaire - Collège L.A - 17:05Bus normal - Louis de Vion - 17:09
DESCRIPTION:
URL:https://ecole.saintjevin.fr/event/bus-scolaire-college-l-a-1705bus-normal-louis-de-vion-1709/2029-04-20/
CATEGORIES:Bus soir
END:VEVENT
BEGIN:VEVENT
DTSTART;TZID=Europe/Paris:20290423T170000
DTEND;TZID=Europe/Paris:20290423T173000
DTSTAMP:20260422T132439
CREATED:20240917T073600Z
LAST-MODIFIED:20240917T073600Z
UID:10009858-1871658000-1871659800@ecole.saintjevin.fr
SUMMARY:Bus scolaire - Collège L.A - 17:05Bus normal - Louis de Vion - 17:09
DESCRIPTION:
URL:https://ecole.saintjevin.fr/event/bus-scolaire-college-l-a-1705bus-normal-louis-de-vion-1709/2029-04-23/
CATEGORIES:Bus soir
END:VEVENT
BEGIN:VEVENT
DTSTART;TZID=Europe/Paris:20290426T170000
DTEND;TZID=Europe/Paris:20290426T173000
DTSTAMP:20260422T132439
CREATED:20240917T073600Z
LAST-MODIFIED:20240917T073600Z
UID:10009859-1871917200-1871919000@ecole.saintjevin.fr
SUMMARY:Bus scolaire - Collège L.A - 17:05Bus normal - Louis de Vion - 17:09
DESCRIPTION:
URL:https://ecole.saintjevin.fr/event/bus-scolaire-college-l-a-1705bus-normal-louis-de-vion-1709/2029-04-26/
CATEGORIES:Bus soir
END:VEVENT
BEGIN:VEVENT
DTSTART;TZID=Europe/Paris:20290427T170000
DTEND;TZID=Europe/Paris:20290427T173000
DTSTAMP:20260422T132439
CREATED:20240917T073600Z
LAST-MODIFIED:20240917T073600Z
UID:10009860-1872003600-1872005400@ecole.saintjevin.fr
SUMMARY:Bus scolaire - Collège L.A - 17:05Bus normal - Louis de Vion - 17:09
DESCRIPTION:
URL:https://ecole.saintjevin.fr/event/bus-scolaire-college-l-a-1705bus-normal-louis-de-vion-1709/2029-04-27/
CATEGORIES:Bus soir
END:VEVENT
BEGIN:VEVENT
DTSTART;TZID=Europe/Paris:20290430T170000
DTEND;TZID=Europe/Paris:20290430T173000
DTSTAMP:20260422T132439
CREATED:20240917T073600Z
LAST-MODIFIED:20240917T073600Z
UID:10009861-1872262800-1872264600@ecole.saintjevin.fr
SUMMARY:Bus scolaire - Collège L.A - 17:05Bus normal - Louis de Vion - 17:09
DESCRIPTION:
URL:https://ecole.saintjevin.fr/event/bus-scolaire-college-l-a-1705bus-normal-louis-de-vion-1709/2029-04-30/
CATEGORIES:Bus soir
END:VEVENT
BEGIN:VEVENT
DTSTART;TZID=Europe/Paris:20290503T170000
DTEND;TZID=Europe/Paris:20290503T173000
DTSTAMP:20260422T132439
CREATED:20240917T073600Z
LAST-MODIFIED:20240917T073600Z
UID:10009862-1872522000-1872523800@ecole.saintjevin.fr
SUMMARY:Bus scolaire - Collège L.A - 17:05Bus normal - Louis de Vion - 17:09
DESCRIPTION:
URL:https://ecole.saintjevin.fr/event/bus-scolaire-college-l-a-1705bus-normal-louis-de-vion-1709/2029-05-03/
CATEGORIES:Bus soir
END:VEVENT
BEGIN:VEVENT
DTSTART;TZID=Europe/Paris:20290504T170000
DTEND;TZID=Europe/Paris:20290504T173000
DTSTAMP:20260422T132439
CREATED:20240917T073600Z
LAST-MODIFIED:20240917T073600Z
UID:10009863-1872608400-1872610200@ecole.saintjevin.fr
SUMMARY:Bus scolaire - Collège L.A - 17:05Bus normal - Louis de Vion - 17:09
DESCRIPTION:
URL:https://ecole.saintjevin.fr/event/bus-scolaire-college-l-a-1705bus-normal-louis-de-vion-1709/2029-05-04/
CATEGORIES:Bus soir
END:VEVENT
BEGIN:VEVENT
DTSTART;TZID=Europe/Paris:20290507T170000
DTEND;TZID=Europe/Paris:20290507T173000
DTSTAMP:20260422T132439
CREATED:20240917T073600Z
LAST-MODIFIED:20240917T073600Z
UID:10009864-1872867600-1872869400@ecole.saintjevin.fr
SUMMARY:Bus scolaire - Collège L.A - 17:05Bus normal - Louis de Vion - 17:09
DESCRIPTION:
URL:https://ecole.saintjevin.fr/event/bus-scolaire-college-l-a-1705bus-normal-louis-de-vion-1709/2029-05-07/
CATEGORIES:Bus soir
END:VEVENT
BEGIN:VEVENT
DTSTART;TZID=Europe/Paris:20290510T170000
DTEND;TZID=Europe/Paris:20290510T173000
DTSTAMP:20260422T132439
CREATED:20240917T073600Z
LAST-MODIFIED:20240917T073600Z
UID:10009865-1873126800-1873128600@ecole.saintjevin.fr
SUMMARY:Bus scolaire - Collège L.A - 17:05Bus normal - Louis de Vion - 17:09
DESCRIPTION:
URL:https://ecole.saintjevin.fr/event/bus-scolaire-college-l-a-1705bus-normal-louis-de-vion-1709/2029-05-10/
CATEGORIES:Bus soir
END:VEVENT
BEGIN:VEVENT
DTSTART;TZID=Europe/Paris:20290511T170000
DTEND;TZID=Europe/Paris:20290511T173000
DTSTAMP:20260422T132439
CREATED:20240917T073600Z
LAST-MODIFIED:20240917T073600Z
UID:10009866-1873213200-1873215000@ecole.saintjevin.fr
SUMMARY:Bus scolaire - Collège L.A - 17:05Bus normal - Louis de Vion - 17:09
DESCRIPTION:
URL:https://ecole.saintjevin.fr/event/bus-scolaire-college-l-a-1705bus-normal-louis-de-vion-1709/2029-05-11/
CATEGORIES:Bus soir
END:VEVENT
BEGIN:VEVENT
DTSTART;TZID=Europe/Paris:20290514T170000
DTEND;TZID=Europe/Paris:20290514T173000
DTSTAMP:20260422T132439
CREATED:20240917T073600Z
LAST-MODIFIED:20240917T073600Z
UID:10009867-1873472400-1873474200@ecole.saintjevin.fr
SUMMARY:Bus scolaire - Collège L.A - 17:05Bus normal - Louis de Vion - 17:09
DESCRIPTION:
URL:https://ecole.saintjevin.fr/event/bus-scolaire-college-l-a-1705bus-normal-louis-de-vion-1709/2029-05-14/
CATEGORIES:Bus soir
END:VEVENT
BEGIN:VEVENT
DTSTART;TZID=Europe/Paris:20290517T170000
DTEND;TZID=Europe/Paris:20290517T173000
DTSTAMP:20260422T132439
CREATED:20240917T073600Z
LAST-MODIFIED:20240917T073600Z
UID:10009868-1873731600-1873733400@ecole.saintjevin.fr
SUMMARY:Bus scolaire - Collège L.A - 17:05Bus normal - Louis de Vion - 17:09
DESCRIPTION:
URL:https://ecole.saintjevin.fr/event/bus-scolaire-college-l-a-1705bus-normal-louis-de-vion-1709/2029-05-17/
CATEGORIES:Bus soir
END:VEVENT
BEGIN:VEVENT
DTSTART;TZID=Europe/Paris:20290518T170000
DTEND;TZID=Europe/Paris:20290518T173000
DTSTAMP:20260422T132439
CREATED:20240917T073600Z
LAST-MODIFIED:20240917T073600Z
UID:10009869-1873818000-1873819800@ecole.saintjevin.fr
SUMMARY:Bus scolaire - Collège L.A - 17:05Bus normal - Louis de Vion - 17:09
DESCRIPTION:
URL:https://ecole.saintjevin.fr/event/bus-scolaire-college-l-a-1705bus-normal-louis-de-vion-1709/2029-05-18/
CATEGORIES:Bus soir
END:VEVENT
BEGIN:VEVENT
DTSTART;TZID=Europe/Paris:20290521T170000
DTEND;TZID=Europe/Paris:20290521T173000
DTSTAMP:20260422T132439
CREATED:20240917T073600Z
LAST-MODIFIED:20240917T073600Z
UID:10009870-1874077200-1874079000@ecole.saintjevin.fr
SUMMARY:Bus scolaire - Collège L.A - 17:05Bus normal - Louis de Vion - 17:09
DESCRIPTION:
URL:https://ecole.saintjevin.fr/event/bus-scolaire-college-l-a-1705bus-normal-louis-de-vion-1709/2029-05-21/
CATEGORIES:Bus soir
END:VEVENT
BEGIN:VEVENT
DTSTART;TZID=Europe/Paris:20290524T170000
DTEND;TZID=Europe/Paris:20290524T173000
DTSTAMP:20260422T132439
CREATED:20240917T073600Z
LAST-MODIFIED:20240917T073600Z
UID:10009871-1874336400-1874338200@ecole.saintjevin.fr
SUMMARY:Bus scolaire - Collège L.A - 17:05Bus normal - Louis de Vion - 17:09
DESCRIPTION:
URL:https://ecole.saintjevin.fr/event/bus-scolaire-college-l-a-1705bus-normal-louis-de-vion-1709/2029-05-24/
CATEGORIES:Bus soir
END:VEVENT
BEGIN:VEVENT
DTSTART;TZID=Europe/Paris:20290525T170000
DTEND;TZID=Europe/Paris:20290525T173000
DTSTAMP:20260422T132439
CREATED:20240917T073600Z
LAST-MODIFIED:20240917T073600Z
UID:10009872-1874422800-1874424600@ecole.saintjevin.fr
SUMMARY:Bus scolaire - Collège L.A - 17:05Bus normal - Louis de Vion - 17:09
DESCRIPTION:
URL:https://ecole.saintjevin.fr/event/bus-scolaire-college-l-a-1705bus-normal-louis-de-vion-1709/2029-05-25/
CATEGORIES:Bus soir
END:VEVENT
BEGIN:VEVENT
DTSTART;TZID=Europe/Paris:20290528T170000
DTEND;TZID=Europe/Paris:20290528T173000
DTSTAMP:20260422T132439
CREATED:20240917T073600Z
LAST-MODIFIED:20240917T073600Z
UID:10009873-1874682000-1874683800@ecole.saintjevin.fr
SUMMARY:Bus scolaire - Collège L.A - 17:05Bus normal - Louis de Vion - 17:09
DESCRIPTION:
URL:https://ecole.saintjevin.fr/event/bus-scolaire-college-l-a-1705bus-normal-louis-de-vion-1709/2029-05-28/
CATEGORIES:Bus soir
END:VEVENT
BEGIN:VEVENT
DTSTART;TZID=Europe/Paris:20290531T170000
DTEND;TZID=Europe/Paris:20290531T173000
DTSTAMP:20260422T132439
CREATED:20240917T073600Z
LAST-MODIFIED:20240917T073600Z
UID:10009874-1874941200-1874943000@ecole.saintjevin.fr
SUMMARY:Bus scolaire - Collège L.A - 17:05Bus normal - Louis de Vion - 17:09
DESCRIPTION:
URL:https://ecole.saintjevin.fr/event/bus-scolaire-college-l-a-1705bus-normal-louis-de-vion-1709/2029-05-31/
CATEGORIES:Bus soir
END:VEVENT
BEGIN:VEVENT
DTSTART;TZID=Europe/Paris:20290601T170000
DTEND;TZID=Europe/Paris:20290601T173000
DTSTAMP:20260422T132439
CREATED:20240917T073600Z
LAST-MODIFIED:20240917T073600Z
UID:10009875-1875027600-1875029400@ecole.saintjevin.fr
SUMMARY:Bus scolaire - Collège L.A - 17:05Bus normal - Louis de Vion - 17:09
DESCRIPTION:
URL:https://ecole.saintjevin.fr/event/bus-scolaire-college-l-a-1705bus-normal-louis-de-vion-1709/2029-06-01/
CATEGORIES:Bus soir
END:VEVENT
BEGIN:VEVENT
DTSTART;TZID=Europe/Paris:20290604T170000
DTEND;TZID=Europe/Paris:20290604T173000
DTSTAMP:20260422T132439
CREATED:20240917T073600Z
LAST-MODIFIED:20240917T073600Z
UID:10009876-1875286800-1875288600@ecole.saintjevin.fr
SUMMARY:Bus scolaire - Collège L.A - 17:05Bus normal - Louis de Vion - 17:09
DESCRIPTION:
URL:https://ecole.saintjevin.fr/event/bus-scolaire-college-l-a-1705bus-normal-louis-de-vion-1709/2029-06-04/
CATEGORIES:Bus soir
END:VEVENT
BEGIN:VEVENT
DTSTART;TZID=Europe/Paris:20290607T170000
DTEND;TZID=Europe/Paris:20290607T173000
DTSTAMP:20260422T132439
CREATED:20240917T073600Z
LAST-MODIFIED:20240917T073600Z
UID:10009877-1875546000-1875547800@ecole.saintjevin.fr
SUMMARY:Bus scolaire - Collège L.A - 17:05Bus normal - Louis de Vion - 17:09
DESCRIPTION:
URL:https://ecole.saintjevin.fr/event/bus-scolaire-college-l-a-1705bus-normal-louis-de-vion-1709/2029-06-07/
CATEGORIES:Bus soir
END:VEVENT
BEGIN:VEVENT
DTSTART;TZID=Europe/Paris:20290608T170000
DTEND;TZID=Europe/Paris:20290608T173000
DTSTAMP:20260422T132439
CREATED:20240917T073600Z
LAST-MODIFIED:20240917T073600Z
UID:10009878-1875632400-1875634200@ecole.saintjevin.fr
SUMMARY:Bus scolaire - Collège L.A - 17:05Bus normal - Louis de Vion - 17:09
DESCRIPTION:
URL:https://ecole.saintjevin.fr/event/bus-scolaire-college-l-a-1705bus-normal-louis-de-vion-1709/2029-06-08/
CATEGORIES:Bus soir
END:VEVENT
BEGIN:VEVENT
DTSTART;TZID=Europe/Paris:20290611T170000
DTEND;TZID=Europe/Paris:20290611T173000
DTSTAMP:20260422T132439
CREATED:20240917T073600Z
LAST-MODIFIED:20240917T073600Z
UID:10009879-1875891600-1875893400@ecole.saintjevin.fr
SUMMARY:Bus scolaire - Collège L.A - 17:05Bus normal - Louis de Vion - 17:09
DESCRIPTION:
URL:https://ecole.saintjevin.fr/event/bus-scolaire-college-l-a-1705bus-normal-louis-de-vion-1709/2029-06-11/
CATEGORIES:Bus soir
END:VEVENT
BEGIN:VEVENT
DTSTART;TZID=Europe/Paris:20290614T170000
DTEND;TZID=Europe/Paris:20290614T173000
DTSTAMP:20260422T132439
CREATED:20240917T073600Z
LAST-MODIFIED:20240917T073600Z
UID:10009880-1876150800-1876152600@ecole.saintjevin.fr
SUMMARY:Bus scolaire - Collège L.A - 17:05Bus normal - Louis de Vion - 17:09
DESCRIPTION:
URL:https://ecole.saintjevin.fr/event/bus-scolaire-college-l-a-1705bus-normal-louis-de-vion-1709/2029-06-14/
CATEGORIES:Bus soir
END:VEVENT
BEGIN:VEVENT
DTSTART;TZID=Europe/Paris:20290615T170000
DTEND;TZID=Europe/Paris:20290615T173000
DTSTAMP:20260422T132439
CREATED:20240917T073600Z
LAST-MODIFIED:20240917T073600Z
UID:10009881-1876237200-1876239000@ecole.saintjevin.fr
SUMMARY:Bus scolaire - Collège L.A - 17:05Bus normal - Louis de Vion - 17:09
DESCRIPTION:
URL:https://ecole.saintjevin.fr/event/bus-scolaire-college-l-a-1705bus-normal-louis-de-vion-1709/2029-06-15/
CATEGORIES:Bus soir
END:VEVENT
BEGIN:VEVENT
DTSTART;TZID=Europe/Paris:20290618T170000
DTEND;TZID=Europe/Paris:20290618T173000
DTSTAMP:20260422T132439
CREATED:20240917T073600Z
LAST-MODIFIED:20240917T073600Z
UID:10009882-1876496400-1876498200@ecole.saintjevin.fr
SUMMARY:Bus scolaire - Collège L.A - 17:05Bus normal - Louis de Vion - 17:09
DESCRIPTION:
URL:https://ecole.saintjevin.fr/event/bus-scolaire-college-l-a-1705bus-normal-louis-de-vion-1709/2029-06-18/
CATEGORIES:Bus soir
END:VEVENT
BEGIN:VEVENT
DTSTART;TZID=Europe/Paris:20290621T170000
DTEND;TZID=Europe/Paris:20290621T173000
DTSTAMP:20260422T132439
CREATED:20240917T073600Z
LAST-MODIFIED:20240917T073600Z
UID:10009883-1876755600-1876757400@ecole.saintjevin.fr
SUMMARY:Bus scolaire - Collège L.A - 17:05Bus normal - Louis de Vion - 17:09
DESCRIPTION:
URL:https://ecole.saintjevin.fr/event/bus-scolaire-college-l-a-1705bus-normal-louis-de-vion-1709/2029-06-21/
CATEGORIES:Bus soir
END:VEVENT
BEGIN:VEVENT
DTSTART;TZID=Europe/Paris:20290622T170000
DTEND;TZID=Europe/Paris:20290622T173000
DTSTAMP:20260422T132439
CREATED:20240917T073600Z
LAST-MODIFIED:20240917T073600Z
UID:10009884-1876842000-1876843800@ecole.saintjevin.fr
SUMMARY:Bus scolaire - Collège L.A - 17:05Bus normal - Louis de Vion - 17:09
DESCRIPTION:
URL:https://ecole.saintjevin.fr/event/bus-scolaire-college-l-a-1705bus-normal-louis-de-vion-1709/2029-06-22/
CATEGORIES:Bus soir
END:VEVENT
BEGIN:VEVENT
DTSTART;TZID=Europe/Paris:20290625T170000
DTEND;TZID=Europe/Paris:20290625T173000
DTSTAMP:20260422T132439
CREATED:20240917T073600Z
LAST-MODIFIED:20240917T073600Z
UID:10009885-1877101200-1877103000@ecole.saintjevin.fr
SUMMARY:Bus scolaire - Collège L.A - 17:05Bus normal - Louis de Vion - 17:09
DESCRIPTION:
URL:https://ecole.saintjevin.fr/event/bus-scolaire-college-l-a-1705bus-normal-louis-de-vion-1709/2029-06-25/
CATEGORIES:Bus soir
END:VEVENT
END:VCALENDAR