BEGIN:VCALENDAR
VERSION:2.0
PRODID:-//Ecole - ECPv6.6.4//NONSGML v1.0//EN
CALSCALE:GREGORIAN
METHOD:PUBLISH
X-ORIGINAL-URL:https://ecole.saintjevin.fr
X-WR-CALDESC:évènements pour Ecole
REFRESH-INTERVAL;VALUE=DURATION:PT1H
X-Robots-Tag:noindex
X-PUBLISHED-TTL:PT1H
BEGIN:VTIMEZONE
TZID:Europe/Paris
BEGIN:DAYLIGHT
TZOFFSETFROM:+0100
TZOFFSETTO:+0200
TZNAME:CEST
DTSTART:20290325T010000
END:DAYLIGHT
BEGIN:STANDARD
TZOFFSETFROM:+0200
TZOFFSETTO:+0100
TZNAME:CET
DTSTART:20291028T010000
END:STANDARD
END:VTIMEZONE
BEGIN:VEVENT
DTSTART;TZID=Europe/Paris:20290122T170000
DTEND;TZID=Europe/Paris:20290122T173000
DTSTAMP:20260420T095221
CREATED:20240917T073600Z
LAST-MODIFIED:20240917T073600Z
UID:10009819-1863795600-1863797400@ecole.saintjevin.fr
SUMMARY:Bus scolaire - Collège L.A - 17:05Bus normal - Louis de Vion - 17:09
DESCRIPTION:
URL:https://ecole.saintjevin.fr/event/bus-scolaire-college-l-a-1705bus-normal-louis-de-vion-1709/2029-01-22/
CATEGORIES:Bus soir
END:VEVENT
BEGIN:VEVENT
DTSTART;TZID=Europe/Paris:20290125T170000
DTEND;TZID=Europe/Paris:20290125T173000
DTSTAMP:20260420T095221
CREATED:20240917T073600Z
LAST-MODIFIED:20240917T073600Z
UID:10009820-1864054800-1864056600@ecole.saintjevin.fr
SUMMARY:Bus scolaire - Collège L.A - 17:05Bus normal - Louis de Vion - 17:09
DESCRIPTION:
URL:https://ecole.saintjevin.fr/event/bus-scolaire-college-l-a-1705bus-normal-louis-de-vion-1709/2029-01-25/
CATEGORIES:Bus soir
END:VEVENT
BEGIN:VEVENT
DTSTART;TZID=Europe/Paris:20290126T170000
DTEND;TZID=Europe/Paris:20290126T173000
DTSTAMP:20260420T095221
CREATED:20240917T073600Z
LAST-MODIFIED:20240917T073600Z
UID:10009821-1864141200-1864143000@ecole.saintjevin.fr
SUMMARY:Bus scolaire - Collège L.A - 17:05Bus normal - Louis de Vion - 17:09
DESCRIPTION:
URL:https://ecole.saintjevin.fr/event/bus-scolaire-college-l-a-1705bus-normal-louis-de-vion-1709/2029-01-26/
CATEGORIES:Bus soir
END:VEVENT
BEGIN:VEVENT
DTSTART;TZID=Europe/Paris:20290129T170000
DTEND;TZID=Europe/Paris:20290129T173000
DTSTAMP:20260420T095221
CREATED:20240917T073600Z
LAST-MODIFIED:20240917T073600Z
UID:10009822-1864400400-1864402200@ecole.saintjevin.fr
SUMMARY:Bus scolaire - Collège L.A - 17:05Bus normal - Louis de Vion - 17:09
DESCRIPTION:
URL:https://ecole.saintjevin.fr/event/bus-scolaire-college-l-a-1705bus-normal-louis-de-vion-1709/2029-01-29/
CATEGORIES:Bus soir
END:VEVENT
BEGIN:VEVENT
DTSTART;TZID=Europe/Paris:20290201T170000
DTEND;TZID=Europe/Paris:20290201T173000
DTSTAMP:20260420T095221
CREATED:20240917T073600Z
LAST-MODIFIED:20240917T073600Z
UID:10009823-1864659600-1864661400@ecole.saintjevin.fr
SUMMARY:Bus scolaire - Collège L.A - 17:05Bus normal - Louis de Vion - 17:09
DESCRIPTION:
URL:https://ecole.saintjevin.fr/event/bus-scolaire-college-l-a-1705bus-normal-louis-de-vion-1709/2029-02-01/
CATEGORIES:Bus soir
END:VEVENT
BEGIN:VEVENT
DTSTART;TZID=Europe/Paris:20290202T170000
DTEND;TZID=Europe/Paris:20290202T173000
DTSTAMP:20260420T095221
CREATED:20240917T073600Z
LAST-MODIFIED:20240917T073600Z
UID:10009824-1864746000-1864747800@ecole.saintjevin.fr
SUMMARY:Bus scolaire - Collège L.A - 17:05Bus normal - Louis de Vion - 17:09
DESCRIPTION:
URL:https://ecole.saintjevin.fr/event/bus-scolaire-college-l-a-1705bus-normal-louis-de-vion-1709/2029-02-02/
CATEGORIES:Bus soir
END:VEVENT
BEGIN:VEVENT
DTSTART;TZID=Europe/Paris:20290205T170000
DTEND;TZID=Europe/Paris:20290205T173000
DTSTAMP:20260420T095221
CREATED:20240917T073600Z
LAST-MODIFIED:20240917T073600Z
UID:10009825-1865005200-1865007000@ecole.saintjevin.fr
SUMMARY:Bus scolaire - Collège L.A - 17:05Bus normal - Louis de Vion - 17:09
DESCRIPTION:
URL:https://ecole.saintjevin.fr/event/bus-scolaire-college-l-a-1705bus-normal-louis-de-vion-1709/2029-02-05/
CATEGORIES:Bus soir
END:VEVENT
BEGIN:VEVENT
DTSTART;TZID=Europe/Paris:20290208T170000
DTEND;TZID=Europe/Paris:20290208T173000
DTSTAMP:20260420T095221
CREATED:20240917T073600Z
LAST-MODIFIED:20240917T073600Z
UID:10009826-1865264400-1865266200@ecole.saintjevin.fr
SUMMARY:Bus scolaire - Collège L.A - 17:05Bus normal - Louis de Vion - 17:09
DESCRIPTION:
URL:https://ecole.saintjevin.fr/event/bus-scolaire-college-l-a-1705bus-normal-louis-de-vion-1709/2029-02-08/
CATEGORIES:Bus soir
END:VEVENT
BEGIN:VEVENT
DTSTART;TZID=Europe/Paris:20290209T170000
DTEND;TZID=Europe/Paris:20290209T173000
DTSTAMP:20260420T095221
CREATED:20240917T073600Z
LAST-MODIFIED:20240917T073600Z
UID:10009827-1865350800-1865352600@ecole.saintjevin.fr
SUMMARY:Bus scolaire - Collège L.A - 17:05Bus normal - Louis de Vion - 17:09
DESCRIPTION:
URL:https://ecole.saintjevin.fr/event/bus-scolaire-college-l-a-1705bus-normal-louis-de-vion-1709/2029-02-09/
CATEGORIES:Bus soir
END:VEVENT
BEGIN:VEVENT
DTSTART;TZID=Europe/Paris:20290212T170000
DTEND;TZID=Europe/Paris:20290212T173000
DTSTAMP:20260420T095221
CREATED:20240917T073600Z
LAST-MODIFIED:20240917T073600Z
UID:10009828-1865610000-1865611800@ecole.saintjevin.fr
SUMMARY:Bus scolaire - Collège L.A - 17:05Bus normal - Louis de Vion - 17:09
DESCRIPTION:
URL:https://ecole.saintjevin.fr/event/bus-scolaire-college-l-a-1705bus-normal-louis-de-vion-1709/2029-02-12/
CATEGORIES:Bus soir
END:VEVENT
BEGIN:VEVENT
DTSTART;TZID=Europe/Paris:20290215T170000
DTEND;TZID=Europe/Paris:20290215T173000
DTSTAMP:20260420T095221
CREATED:20240917T073600Z
LAST-MODIFIED:20240917T073600Z
UID:10009829-1865869200-1865871000@ecole.saintjevin.fr
SUMMARY:Bus scolaire - Collège L.A - 17:05Bus normal - Louis de Vion - 17:09
DESCRIPTION:
URL:https://ecole.saintjevin.fr/event/bus-scolaire-college-l-a-1705bus-normal-louis-de-vion-1709/2029-02-15/
CATEGORIES:Bus soir
END:VEVENT
BEGIN:VEVENT
DTSTART;TZID=Europe/Paris:20290216T170000
DTEND;TZID=Europe/Paris:20290216T173000
DTSTAMP:20260420T095221
CREATED:20240917T073600Z
LAST-MODIFIED:20240917T073600Z
UID:10009830-1865955600-1865957400@ecole.saintjevin.fr
SUMMARY:Bus scolaire - Collège L.A - 17:05Bus normal - Louis de Vion - 17:09
DESCRIPTION:
URL:https://ecole.saintjevin.fr/event/bus-scolaire-college-l-a-1705bus-normal-louis-de-vion-1709/2029-02-16/
CATEGORIES:Bus soir
END:VEVENT
BEGIN:VEVENT
DTSTART;TZID=Europe/Paris:20290219T170000
DTEND;TZID=Europe/Paris:20290219T173000
DTSTAMP:20260420T095221
CREATED:20240917T073600Z
LAST-MODIFIED:20240917T073600Z
UID:10009831-1866214800-1866216600@ecole.saintjevin.fr
SUMMARY:Bus scolaire - Collège L.A - 17:05Bus normal - Louis de Vion - 17:09
DESCRIPTION:
URL:https://ecole.saintjevin.fr/event/bus-scolaire-college-l-a-1705bus-normal-louis-de-vion-1709/2029-02-19/
CATEGORIES:Bus soir
END:VEVENT
BEGIN:VEVENT
DTSTART;TZID=Europe/Paris:20290222T170000
DTEND;TZID=Europe/Paris:20290222T173000
DTSTAMP:20260420T095221
CREATED:20240917T073600Z
LAST-MODIFIED:20240917T073600Z
UID:10009832-1866474000-1866475800@ecole.saintjevin.fr
SUMMARY:Bus scolaire - Collège L.A - 17:05Bus normal - Louis de Vion - 17:09
DESCRIPTION:
URL:https://ecole.saintjevin.fr/event/bus-scolaire-college-l-a-1705bus-normal-louis-de-vion-1709/2029-02-22/
CATEGORIES:Bus soir
END:VEVENT
BEGIN:VEVENT
DTSTART;TZID=Europe/Paris:20290223T170000
DTEND;TZID=Europe/Paris:20290223T173000
DTSTAMP:20260420T095221
CREATED:20240917T073600Z
LAST-MODIFIED:20240917T073600Z
UID:10009833-1866560400-1866562200@ecole.saintjevin.fr
SUMMARY:Bus scolaire - Collège L.A - 17:05Bus normal - Louis de Vion - 17:09
DESCRIPTION:
URL:https://ecole.saintjevin.fr/event/bus-scolaire-college-l-a-1705bus-normal-louis-de-vion-1709/2029-02-23/
CATEGORIES:Bus soir
END:VEVENT
BEGIN:VEVENT
DTSTART;TZID=Europe/Paris:20290226T170000
DTEND;TZID=Europe/Paris:20290226T173000
DTSTAMP:20260420T095221
CREATED:20240917T073600Z
LAST-MODIFIED:20240917T073600Z
UID:10009834-1866819600-1866821400@ecole.saintjevin.fr
SUMMARY:Bus scolaire - Collège L.A - 17:05Bus normal - Louis de Vion - 17:09
DESCRIPTION:
URL:https://ecole.saintjevin.fr/event/bus-scolaire-college-l-a-1705bus-normal-louis-de-vion-1709/2029-02-26/
CATEGORIES:Bus soir
END:VEVENT
BEGIN:VEVENT
DTSTART;TZID=Europe/Paris:20290301T170000
DTEND;TZID=Europe/Paris:20290301T173000
DTSTAMP:20260420T095221
CREATED:20240917T073600Z
LAST-MODIFIED:20240917T073600Z
UID:10009835-1867078800-1867080600@ecole.saintjevin.fr
SUMMARY:Bus scolaire - Collège L.A - 17:05Bus normal - Louis de Vion - 17:09
DESCRIPTION:
URL:https://ecole.saintjevin.fr/event/bus-scolaire-college-l-a-1705bus-normal-louis-de-vion-1709/2029-03-01/
CATEGORIES:Bus soir
END:VEVENT
BEGIN:VEVENT
DTSTART;TZID=Europe/Paris:20290302T170000
DTEND;TZID=Europe/Paris:20290302T173000
DTSTAMP:20260420T095221
CREATED:20240917T073600Z
LAST-MODIFIED:20240917T073600Z
UID:10009836-1867165200-1867167000@ecole.saintjevin.fr
SUMMARY:Bus scolaire - Collège L.A - 17:05Bus normal - Louis de Vion - 17:09
DESCRIPTION:
URL:https://ecole.saintjevin.fr/event/bus-scolaire-college-l-a-1705bus-normal-louis-de-vion-1709/2029-03-02/
CATEGORIES:Bus soir
END:VEVENT
BEGIN:VEVENT
DTSTART;TZID=Europe/Paris:20290305T170000
DTEND;TZID=Europe/Paris:20290305T173000
DTSTAMP:20260420T095221
CREATED:20240917T073600Z
LAST-MODIFIED:20240917T073600Z
UID:10009837-1867424400-1867426200@ecole.saintjevin.fr
SUMMARY:Bus scolaire - Collège L.A - 17:05Bus normal - Louis de Vion - 17:09
DESCRIPTION:
URL:https://ecole.saintjevin.fr/event/bus-scolaire-college-l-a-1705bus-normal-louis-de-vion-1709/2029-03-05/
CATEGORIES:Bus soir
END:VEVENT
BEGIN:VEVENT
DTSTART;TZID=Europe/Paris:20290308T170000
DTEND;TZID=Europe/Paris:20290308T173000
DTSTAMP:20260420T095221
CREATED:20240917T073600Z
LAST-MODIFIED:20240917T073600Z
UID:10009838-1867683600-1867685400@ecole.saintjevin.fr
SUMMARY:Bus scolaire - Collège L.A - 17:05Bus normal - Louis de Vion - 17:09
DESCRIPTION:
URL:https://ecole.saintjevin.fr/event/bus-scolaire-college-l-a-1705bus-normal-louis-de-vion-1709/2029-03-08/
CATEGORIES:Bus soir
END:VEVENT
BEGIN:VEVENT
DTSTART;TZID=Europe/Paris:20290309T170000
DTEND;TZID=Europe/Paris:20290309T173000
DTSTAMP:20260420T095221
CREATED:20240917T073600Z
LAST-MODIFIED:20240917T073600Z
UID:10009839-1867770000-1867771800@ecole.saintjevin.fr
SUMMARY:Bus scolaire - Collège L.A - 17:05Bus normal - Louis de Vion - 17:09
DESCRIPTION:
URL:https://ecole.saintjevin.fr/event/bus-scolaire-college-l-a-1705bus-normal-louis-de-vion-1709/2029-03-09/
CATEGORIES:Bus soir
END:VEVENT
BEGIN:VEVENT
DTSTART;TZID=Europe/Paris:20290312T170000
DTEND;TZID=Europe/Paris:20290312T173000
DTSTAMP:20260420T095221
CREATED:20240917T073600Z
LAST-MODIFIED:20240917T073600Z
UID:10009840-1868029200-1868031000@ecole.saintjevin.fr
SUMMARY:Bus scolaire - Collège L.A - 17:05Bus normal - Louis de Vion - 17:09
DESCRIPTION:
URL:https://ecole.saintjevin.fr/event/bus-scolaire-college-l-a-1705bus-normal-louis-de-vion-1709/2029-03-12/
CATEGORIES:Bus soir
END:VEVENT
BEGIN:VEVENT
DTSTART;TZID=Europe/Paris:20290315T170000
DTEND;TZID=Europe/Paris:20290315T173000
DTSTAMP:20260420T095221
CREATED:20240917T073600Z
LAST-MODIFIED:20240917T073600Z
UID:10009841-1868288400-1868290200@ecole.saintjevin.fr
SUMMARY:Bus scolaire - Collège L.A - 17:05Bus normal - Louis de Vion - 17:09
DESCRIPTION:
URL:https://ecole.saintjevin.fr/event/bus-scolaire-college-l-a-1705bus-normal-louis-de-vion-1709/2029-03-15/
CATEGORIES:Bus soir
END:VEVENT
BEGIN:VEVENT
DTSTART;TZID=Europe/Paris:20290316T170000
DTEND;TZID=Europe/Paris:20290316T173000
DTSTAMP:20260420T095221
CREATED:20240917T073600Z
LAST-MODIFIED:20240917T073600Z
UID:10009842-1868374800-1868376600@ecole.saintjevin.fr
SUMMARY:Bus scolaire - Collège L.A - 17:05Bus normal - Louis de Vion - 17:09
DESCRIPTION:
URL:https://ecole.saintjevin.fr/event/bus-scolaire-college-l-a-1705bus-normal-louis-de-vion-1709/2029-03-16/
CATEGORIES:Bus soir
END:VEVENT
BEGIN:VEVENT
DTSTART;TZID=Europe/Paris:20290319T170000
DTEND;TZID=Europe/Paris:20290319T173000
DTSTAMP:20260420T095221
CREATED:20240917T073600Z
LAST-MODIFIED:20240917T073600Z
UID:10009843-1868634000-1868635800@ecole.saintjevin.fr
SUMMARY:Bus scolaire - Collège L.A - 17:05Bus normal - Louis de Vion - 17:09
DESCRIPTION:
URL:https://ecole.saintjevin.fr/event/bus-scolaire-college-l-a-1705bus-normal-louis-de-vion-1709/2029-03-19/
CATEGORIES:Bus soir
END:VEVENT
BEGIN:VEVENT
DTSTART;TZID=Europe/Paris:20290322T170000
DTEND;TZID=Europe/Paris:20290322T173000
DTSTAMP:20260420T095221
CREATED:20240917T073600Z
LAST-MODIFIED:20240917T073600Z
UID:10009844-1868893200-1868895000@ecole.saintjevin.fr
SUMMARY:Bus scolaire - Collège L.A - 17:05Bus normal - Louis de Vion - 17:09
DESCRIPTION:
URL:https://ecole.saintjevin.fr/event/bus-scolaire-college-l-a-1705bus-normal-louis-de-vion-1709/2029-03-22/
CATEGORIES:Bus soir
END:VEVENT
BEGIN:VEVENT
DTSTART;TZID=Europe/Paris:20290323T170000
DTEND;TZID=Europe/Paris:20290323T173000
DTSTAMP:20260420T095221
CREATED:20240917T073600Z
LAST-MODIFIED:20240917T073600Z
UID:10009845-1868979600-1868981400@ecole.saintjevin.fr
SUMMARY:Bus scolaire - Collège L.A - 17:05Bus normal - Louis de Vion - 17:09
DESCRIPTION:
URL:https://ecole.saintjevin.fr/event/bus-scolaire-college-l-a-1705bus-normal-louis-de-vion-1709/2029-03-23/
CATEGORIES:Bus soir
END:VEVENT
BEGIN:VEVENT
DTSTART;TZID=Europe/Paris:20290326T170000
DTEND;TZID=Europe/Paris:20290326T173000
DTSTAMP:20260420T095221
CREATED:20240917T073600Z
LAST-MODIFIED:20240917T073600Z
UID:10009846-1869238800-1869240600@ecole.saintjevin.fr
SUMMARY:Bus scolaire - Collège L.A - 17:05Bus normal - Louis de Vion - 17:09
DESCRIPTION:
URL:https://ecole.saintjevin.fr/event/bus-scolaire-college-l-a-1705bus-normal-louis-de-vion-1709/2029-03-26/
CATEGORIES:Bus soir
END:VEVENT
BEGIN:VEVENT
DTSTART;TZID=Europe/Paris:20290329T170000
DTEND;TZID=Europe/Paris:20290329T173000
DTSTAMP:20260420T095221
CREATED:20240917T073600Z
LAST-MODIFIED:20240917T073600Z
UID:10009847-1869498000-1869499800@ecole.saintjevin.fr
SUMMARY:Bus scolaire - Collège L.A - 17:05Bus normal - Louis de Vion - 17:09
DESCRIPTION:
URL:https://ecole.saintjevin.fr/event/bus-scolaire-college-l-a-1705bus-normal-louis-de-vion-1709/2029-03-29/
CATEGORIES:Bus soir
END:VEVENT
BEGIN:VEVENT
DTSTART;TZID=Europe/Paris:20290330T170000
DTEND;TZID=Europe/Paris:20290330T173000
DTSTAMP:20260420T095221
CREATED:20240917T073600Z
LAST-MODIFIED:20240917T073600Z
UID:10009848-1869584400-1869586200@ecole.saintjevin.fr
SUMMARY:Bus scolaire - Collège L.A - 17:05Bus normal - Louis de Vion - 17:09
DESCRIPTION:
URL:https://ecole.saintjevin.fr/event/bus-scolaire-college-l-a-1705bus-normal-louis-de-vion-1709/2029-03-30/
CATEGORIES:Bus soir
END:VEVENT
END:VCALENDAR