BEGIN:VCALENDAR
VERSION:2.0
PRODID:-//Ecole - ECPv6.6.4//NONSGML v1.0//EN
CALSCALE:GREGORIAN
METHOD:PUBLISH
X-WR-CALNAME:Ecole
X-ORIGINAL-URL:https://ecole.saintjevin.fr
X-WR-CALDESC:évènements pour Ecole
REFRESH-INTERVAL;VALUE=DURATION:PT1H
X-Robots-Tag:noindex
X-PUBLISHED-TTL:PT1H
BEGIN:VTIMEZONE
TZID:Europe/Paris
BEGIN:DAYLIGHT
TZOFFSETFROM:+0100
TZOFFSETTO:+0200
TZNAME:CEST
DTSTART:20280326T010000
END:DAYLIGHT
BEGIN:STANDARD
TZOFFSETFROM:+0200
TZOFFSETTO:+0100
TZNAME:CET
DTSTART:20281029T010000
END:STANDARD
BEGIN:DAYLIGHT
TZOFFSETFROM:+0100
TZOFFSETTO:+0200
TZNAME:CEST
DTSTART:20290325T010000
END:DAYLIGHT
BEGIN:STANDARD
TZOFFSETFROM:+0200
TZOFFSETTO:+0100
TZNAME:CET
DTSTART:20291028T010000
END:STANDARD
END:VTIMEZONE
BEGIN:VEVENT
DTSTART;TZID=Europe/Paris:20281030T170000
DTEND;TZID=Europe/Paris:20281030T173000
DTSTAMP:20260420T065905
CREATED:20240917T073600Z
LAST-MODIFIED:20240917T073600Z
UID:10009783-1856538000-1856539800@ecole.saintjevin.fr
SUMMARY:Bus scolaire - Collège L.A - 17:05Bus normal - Louis de Vion - 17:09
DESCRIPTION:
URL:https://ecole.saintjevin.fr/event/bus-scolaire-college-l-a-1705bus-normal-louis-de-vion-1709/2028-10-30/
CATEGORIES:Bus soir
END:VEVENT
BEGIN:VEVENT
DTSTART;TZID=Europe/Paris:20281102T170000
DTEND;TZID=Europe/Paris:20281102T173000
DTSTAMP:20260420T065905
CREATED:20240917T073600Z
LAST-MODIFIED:20240917T073600Z
UID:10009784-1856797200-1856799000@ecole.saintjevin.fr
SUMMARY:Bus scolaire - Collège L.A - 17:05Bus normal - Louis de Vion - 17:09
DESCRIPTION:
URL:https://ecole.saintjevin.fr/event/bus-scolaire-college-l-a-1705bus-normal-louis-de-vion-1709/2028-11-02/
CATEGORIES:Bus soir
END:VEVENT
BEGIN:VEVENT
DTSTART;TZID=Europe/Paris:20281103T170000
DTEND;TZID=Europe/Paris:20281103T173000
DTSTAMP:20260420T065905
CREATED:20240917T073600Z
LAST-MODIFIED:20240917T073600Z
UID:10009785-1856883600-1856885400@ecole.saintjevin.fr
SUMMARY:Bus scolaire - Collège L.A - 17:05Bus normal - Louis de Vion - 17:09
DESCRIPTION:
URL:https://ecole.saintjevin.fr/event/bus-scolaire-college-l-a-1705bus-normal-louis-de-vion-1709/2028-11-03/
CATEGORIES:Bus soir
END:VEVENT
BEGIN:VEVENT
DTSTART;TZID=Europe/Paris:20281106T170000
DTEND;TZID=Europe/Paris:20281106T173000
DTSTAMP:20260420T065905
CREATED:20240917T073600Z
LAST-MODIFIED:20240917T073600Z
UID:10009786-1857142800-1857144600@ecole.saintjevin.fr
SUMMARY:Bus scolaire - Collège L.A - 17:05Bus normal - Louis de Vion - 17:09
DESCRIPTION:
URL:https://ecole.saintjevin.fr/event/bus-scolaire-college-l-a-1705bus-normal-louis-de-vion-1709/2028-11-06/
CATEGORIES:Bus soir
END:VEVENT
BEGIN:VEVENT
DTSTART;TZID=Europe/Paris:20281109T170000
DTEND;TZID=Europe/Paris:20281109T173000
DTSTAMP:20260420T065905
CREATED:20240917T073600Z
LAST-MODIFIED:20240917T073600Z
UID:10009787-1857402000-1857403800@ecole.saintjevin.fr
SUMMARY:Bus scolaire - Collège L.A - 17:05Bus normal - Louis de Vion - 17:09
DESCRIPTION:
URL:https://ecole.saintjevin.fr/event/bus-scolaire-college-l-a-1705bus-normal-louis-de-vion-1709/2028-11-09/
CATEGORIES:Bus soir
END:VEVENT
BEGIN:VEVENT
DTSTART;TZID=Europe/Paris:20281110T170000
DTEND;TZID=Europe/Paris:20281110T173000
DTSTAMP:20260420T065905
CREATED:20240917T073600Z
LAST-MODIFIED:20240917T073600Z
UID:10009788-1857488400-1857490200@ecole.saintjevin.fr
SUMMARY:Bus scolaire - Collège L.A - 17:05Bus normal - Louis de Vion - 17:09
DESCRIPTION:
URL:https://ecole.saintjevin.fr/event/bus-scolaire-college-l-a-1705bus-normal-louis-de-vion-1709/2028-11-10/
CATEGORIES:Bus soir
END:VEVENT
BEGIN:VEVENT
DTSTART;TZID=Europe/Paris:20281113T170000
DTEND;TZID=Europe/Paris:20281113T173000
DTSTAMP:20260420T065905
CREATED:20240917T073600Z
LAST-MODIFIED:20240917T073600Z
UID:10009789-1857747600-1857749400@ecole.saintjevin.fr
SUMMARY:Bus scolaire - Collège L.A - 17:05Bus normal - Louis de Vion - 17:09
DESCRIPTION:
URL:https://ecole.saintjevin.fr/event/bus-scolaire-college-l-a-1705bus-normal-louis-de-vion-1709/2028-11-13/
CATEGORIES:Bus soir
END:VEVENT
BEGIN:VEVENT
DTSTART;TZID=Europe/Paris:20281116T170000
DTEND;TZID=Europe/Paris:20281116T173000
DTSTAMP:20260420T065905
CREATED:20240917T073600Z
LAST-MODIFIED:20240917T073600Z
UID:10009790-1858006800-1858008600@ecole.saintjevin.fr
SUMMARY:Bus scolaire - Collège L.A - 17:05Bus normal - Louis de Vion - 17:09
DESCRIPTION:
URL:https://ecole.saintjevin.fr/event/bus-scolaire-college-l-a-1705bus-normal-louis-de-vion-1709/2028-11-16/
CATEGORIES:Bus soir
END:VEVENT
BEGIN:VEVENT
DTSTART;TZID=Europe/Paris:20281117T170000
DTEND;TZID=Europe/Paris:20281117T173000
DTSTAMP:20260420T065905
CREATED:20240917T073600Z
LAST-MODIFIED:20240917T073600Z
UID:10009791-1858093200-1858095000@ecole.saintjevin.fr
SUMMARY:Bus scolaire - Collège L.A - 17:05Bus normal - Louis de Vion - 17:09
DESCRIPTION:
URL:https://ecole.saintjevin.fr/event/bus-scolaire-college-l-a-1705bus-normal-louis-de-vion-1709/2028-11-17/
CATEGORIES:Bus soir
END:VEVENT
BEGIN:VEVENT
DTSTART;TZID=Europe/Paris:20281120T170000
DTEND;TZID=Europe/Paris:20281120T173000
DTSTAMP:20260420T065905
CREATED:20240917T073600Z
LAST-MODIFIED:20240917T073600Z
UID:10009792-1858352400-1858354200@ecole.saintjevin.fr
SUMMARY:Bus scolaire - Collège L.A - 17:05Bus normal - Louis de Vion - 17:09
DESCRIPTION:
URL:https://ecole.saintjevin.fr/event/bus-scolaire-college-l-a-1705bus-normal-louis-de-vion-1709/2028-11-20/
CATEGORIES:Bus soir
END:VEVENT
BEGIN:VEVENT
DTSTART;TZID=Europe/Paris:20281123T170000
DTEND;TZID=Europe/Paris:20281123T173000
DTSTAMP:20260420T065905
CREATED:20240917T073600Z
LAST-MODIFIED:20240917T073600Z
UID:10009793-1858611600-1858613400@ecole.saintjevin.fr
SUMMARY:Bus scolaire - Collège L.A - 17:05Bus normal - Louis de Vion - 17:09
DESCRIPTION:
URL:https://ecole.saintjevin.fr/event/bus-scolaire-college-l-a-1705bus-normal-louis-de-vion-1709/2028-11-23/
CATEGORIES:Bus soir
END:VEVENT
BEGIN:VEVENT
DTSTART;TZID=Europe/Paris:20281124T170000
DTEND;TZID=Europe/Paris:20281124T173000
DTSTAMP:20260420T065905
CREATED:20240917T073600Z
LAST-MODIFIED:20240917T073600Z
UID:10009794-1858698000-1858699800@ecole.saintjevin.fr
SUMMARY:Bus scolaire - Collège L.A - 17:05Bus normal - Louis de Vion - 17:09
DESCRIPTION:
URL:https://ecole.saintjevin.fr/event/bus-scolaire-college-l-a-1705bus-normal-louis-de-vion-1709/2028-11-24/
CATEGORIES:Bus soir
END:VEVENT
BEGIN:VEVENT
DTSTART;TZID=Europe/Paris:20281127T170000
DTEND;TZID=Europe/Paris:20281127T173000
DTSTAMP:20260420T065905
CREATED:20240917T073600Z
LAST-MODIFIED:20240917T073600Z
UID:10009795-1858957200-1858959000@ecole.saintjevin.fr
SUMMARY:Bus scolaire - Collège L.A - 17:05Bus normal - Louis de Vion - 17:09
DESCRIPTION:
URL:https://ecole.saintjevin.fr/event/bus-scolaire-college-l-a-1705bus-normal-louis-de-vion-1709/2028-11-27/
CATEGORIES:Bus soir
END:VEVENT
BEGIN:VEVENT
DTSTART;TZID=Europe/Paris:20281130T170000
DTEND;TZID=Europe/Paris:20281130T173000
DTSTAMP:20260420T065905
CREATED:20240917T073600Z
LAST-MODIFIED:20240917T073600Z
UID:10009796-1859216400-1859218200@ecole.saintjevin.fr
SUMMARY:Bus scolaire - Collège L.A - 17:05Bus normal - Louis de Vion - 17:09
DESCRIPTION:
URL:https://ecole.saintjevin.fr/event/bus-scolaire-college-l-a-1705bus-normal-louis-de-vion-1709/2028-11-30/
CATEGORIES:Bus soir
END:VEVENT
BEGIN:VEVENT
DTSTART;TZID=Europe/Paris:20281201T170000
DTEND;TZID=Europe/Paris:20281201T173000
DTSTAMP:20260420T065905
CREATED:20240917T073600Z
LAST-MODIFIED:20240917T073600Z
UID:10009797-1859302800-1859304600@ecole.saintjevin.fr
SUMMARY:Bus scolaire - Collège L.A - 17:05Bus normal - Louis de Vion - 17:09
DESCRIPTION:
URL:https://ecole.saintjevin.fr/event/bus-scolaire-college-l-a-1705bus-normal-louis-de-vion-1709/2028-12-01/
CATEGORIES:Bus soir
END:VEVENT
BEGIN:VEVENT
DTSTART;TZID=Europe/Paris:20281204T170000
DTEND;TZID=Europe/Paris:20281204T173000
DTSTAMP:20260420T065905
CREATED:20240917T073600Z
LAST-MODIFIED:20240917T073600Z
UID:10009798-1859562000-1859563800@ecole.saintjevin.fr
SUMMARY:Bus scolaire - Collège L.A - 17:05Bus normal - Louis de Vion - 17:09
DESCRIPTION:
URL:https://ecole.saintjevin.fr/event/bus-scolaire-college-l-a-1705bus-normal-louis-de-vion-1709/2028-12-04/
CATEGORIES:Bus soir
END:VEVENT
BEGIN:VEVENT
DTSTART;TZID=Europe/Paris:20281207T170000
DTEND;TZID=Europe/Paris:20281207T173000
DTSTAMP:20260420T065905
CREATED:20240917T073600Z
LAST-MODIFIED:20240917T073600Z
UID:10009799-1859821200-1859823000@ecole.saintjevin.fr
SUMMARY:Bus scolaire - Collège L.A - 17:05Bus normal - Louis de Vion - 17:09
DESCRIPTION:
URL:https://ecole.saintjevin.fr/event/bus-scolaire-college-l-a-1705bus-normal-louis-de-vion-1709/2028-12-07/
CATEGORIES:Bus soir
END:VEVENT
BEGIN:VEVENT
DTSTART;TZID=Europe/Paris:20281208T170000
DTEND;TZID=Europe/Paris:20281208T173000
DTSTAMP:20260420T065905
CREATED:20240917T073600Z
LAST-MODIFIED:20240917T073600Z
UID:10009800-1859907600-1859909400@ecole.saintjevin.fr
SUMMARY:Bus scolaire - Collège L.A - 17:05Bus normal - Louis de Vion - 17:09
DESCRIPTION:
URL:https://ecole.saintjevin.fr/event/bus-scolaire-college-l-a-1705bus-normal-louis-de-vion-1709/2028-12-08/
CATEGORIES:Bus soir
END:VEVENT
BEGIN:VEVENT
DTSTART;TZID=Europe/Paris:20281211T170000
DTEND;TZID=Europe/Paris:20281211T173000
DTSTAMP:20260420T065905
CREATED:20240917T073600Z
LAST-MODIFIED:20240917T073600Z
UID:10009801-1860166800-1860168600@ecole.saintjevin.fr
SUMMARY:Bus scolaire - Collège L.A - 17:05Bus normal - Louis de Vion - 17:09
DESCRIPTION:
URL:https://ecole.saintjevin.fr/event/bus-scolaire-college-l-a-1705bus-normal-louis-de-vion-1709/2028-12-11/
CATEGORIES:Bus soir
END:VEVENT
BEGIN:VEVENT
DTSTART;TZID=Europe/Paris:20281214T170000
DTEND;TZID=Europe/Paris:20281214T173000
DTSTAMP:20260420T065905
CREATED:20240917T073600Z
LAST-MODIFIED:20240917T073600Z
UID:10009802-1860426000-1860427800@ecole.saintjevin.fr
SUMMARY:Bus scolaire - Collège L.A - 17:05Bus normal - Louis de Vion - 17:09
DESCRIPTION:
URL:https://ecole.saintjevin.fr/event/bus-scolaire-college-l-a-1705bus-normal-louis-de-vion-1709/2028-12-14/
CATEGORIES:Bus soir
END:VEVENT
BEGIN:VEVENT
DTSTART;TZID=Europe/Paris:20281215T170000
DTEND;TZID=Europe/Paris:20281215T173000
DTSTAMP:20260420T065905
CREATED:20240917T073600Z
LAST-MODIFIED:20240917T073600Z
UID:10009803-1860512400-1860514200@ecole.saintjevin.fr
SUMMARY:Bus scolaire - Collège L.A - 17:05Bus normal - Louis de Vion - 17:09
DESCRIPTION:
URL:https://ecole.saintjevin.fr/event/bus-scolaire-college-l-a-1705bus-normal-louis-de-vion-1709/2028-12-15/
CATEGORIES:Bus soir
END:VEVENT
BEGIN:VEVENT
DTSTART;TZID=Europe/Paris:20281218T170000
DTEND;TZID=Europe/Paris:20281218T173000
DTSTAMP:20260420T065905
CREATED:20240917T073600Z
LAST-MODIFIED:20240917T073600Z
UID:10009804-1860771600-1860773400@ecole.saintjevin.fr
SUMMARY:Bus scolaire - Collège L.A - 17:05Bus normal - Louis de Vion - 17:09
DESCRIPTION:
URL:https://ecole.saintjevin.fr/event/bus-scolaire-college-l-a-1705bus-normal-louis-de-vion-1709/2028-12-18/
CATEGORIES:Bus soir
END:VEVENT
BEGIN:VEVENT
DTSTART;TZID=Europe/Paris:20281221T170000
DTEND;TZID=Europe/Paris:20281221T173000
DTSTAMP:20260420T065905
CREATED:20240917T073600Z
LAST-MODIFIED:20240917T073600Z
UID:10009805-1861030800-1861032600@ecole.saintjevin.fr
SUMMARY:Bus scolaire - Collège L.A - 17:05Bus normal - Louis de Vion - 17:09
DESCRIPTION:
URL:https://ecole.saintjevin.fr/event/bus-scolaire-college-l-a-1705bus-normal-louis-de-vion-1709/2028-12-21/
CATEGORIES:Bus soir
END:VEVENT
BEGIN:VEVENT
DTSTART;TZID=Europe/Paris:20281222T170000
DTEND;TZID=Europe/Paris:20281222T173000
DTSTAMP:20260420T065905
CREATED:20240917T073600Z
LAST-MODIFIED:20240917T073600Z
UID:10009806-1861117200-1861119000@ecole.saintjevin.fr
SUMMARY:Bus scolaire - Collège L.A - 17:05Bus normal - Louis de Vion - 17:09
DESCRIPTION:
URL:https://ecole.saintjevin.fr/event/bus-scolaire-college-l-a-1705bus-normal-louis-de-vion-1709/2028-12-22/
CATEGORIES:Bus soir
END:VEVENT
BEGIN:VEVENT
DTSTART;TZID=Europe/Paris:20281225T170000
DTEND;TZID=Europe/Paris:20281225T173000
DTSTAMP:20260420T065905
CREATED:20240917T073600Z
LAST-MODIFIED:20240917T073600Z
UID:10009807-1861376400-1861378200@ecole.saintjevin.fr
SUMMARY:Bus scolaire - Collège L.A - 17:05Bus normal - Louis de Vion - 17:09
DESCRIPTION:
URL:https://ecole.saintjevin.fr/event/bus-scolaire-college-l-a-1705bus-normal-louis-de-vion-1709/2028-12-25/
CATEGORIES:Bus soir
END:VEVENT
BEGIN:VEVENT
DTSTART;TZID=Europe/Paris:20281228T170000
DTEND;TZID=Europe/Paris:20281228T173000
DTSTAMP:20260420T065905
CREATED:20240917T073600Z
LAST-MODIFIED:20240917T073600Z
UID:10009808-1861635600-1861637400@ecole.saintjevin.fr
SUMMARY:Bus scolaire - Collège L.A - 17:05Bus normal - Louis de Vion - 17:09
DESCRIPTION:
URL:https://ecole.saintjevin.fr/event/bus-scolaire-college-l-a-1705bus-normal-louis-de-vion-1709/2028-12-28/
CATEGORIES:Bus soir
END:VEVENT
BEGIN:VEVENT
DTSTART;TZID=Europe/Paris:20281229T170000
DTEND;TZID=Europe/Paris:20281229T173000
DTSTAMP:20260420T065905
CREATED:20240917T073600Z
LAST-MODIFIED:20240917T073600Z
UID:10009809-1861722000-1861723800@ecole.saintjevin.fr
SUMMARY:Bus scolaire - Collège L.A - 17:05Bus normal - Louis de Vion - 17:09
DESCRIPTION:
URL:https://ecole.saintjevin.fr/event/bus-scolaire-college-l-a-1705bus-normal-louis-de-vion-1709/2028-12-29/
CATEGORIES:Bus soir
END:VEVENT
BEGIN:VEVENT
DTSTART;TZID=Europe/Paris:20290101T170000
DTEND;TZID=Europe/Paris:20290101T173000
DTSTAMP:20260420T065905
CREATED:20240917T073600Z
LAST-MODIFIED:20240917T073600Z
UID:10009810-1861981200-1861983000@ecole.saintjevin.fr
SUMMARY:Bus scolaire - Collège L.A - 17:05Bus normal - Louis de Vion - 17:09
DESCRIPTION:
URL:https://ecole.saintjevin.fr/event/bus-scolaire-college-l-a-1705bus-normal-louis-de-vion-1709/2029-01-01/
CATEGORIES:Bus soir
END:VEVENT
BEGIN:VEVENT
DTSTART;TZID=Europe/Paris:20290104T170000
DTEND;TZID=Europe/Paris:20290104T173000
DTSTAMP:20260420T065905
CREATED:20240917T073600Z
LAST-MODIFIED:20240917T073600Z
UID:10009811-1862240400-1862242200@ecole.saintjevin.fr
SUMMARY:Bus scolaire - Collège L.A - 17:05Bus normal - Louis de Vion - 17:09
DESCRIPTION:
URL:https://ecole.saintjevin.fr/event/bus-scolaire-college-l-a-1705bus-normal-louis-de-vion-1709/2029-01-04/
CATEGORIES:Bus soir
END:VEVENT
BEGIN:VEVENT
DTSTART;TZID=Europe/Paris:20290105T170000
DTEND;TZID=Europe/Paris:20290105T173000
DTSTAMP:20260420T065905
CREATED:20240917T073600Z
LAST-MODIFIED:20240917T073600Z
UID:10009812-1862326800-1862328600@ecole.saintjevin.fr
SUMMARY:Bus scolaire - Collège L.A - 17:05Bus normal - Louis de Vion - 17:09
DESCRIPTION:
URL:https://ecole.saintjevin.fr/event/bus-scolaire-college-l-a-1705bus-normal-louis-de-vion-1709/2029-01-05/
CATEGORIES:Bus soir
END:VEVENT
END:VCALENDAR