BEGIN:VCALENDAR
VERSION:2.0
PRODID:-//Ecole - ECPv6.6.4//NONSGML v1.0//EN
CALSCALE:GREGORIAN
METHOD:PUBLISH
X-WR-CALNAME:Ecole
X-ORIGINAL-URL:https://ecole.saintjevin.fr
X-WR-CALDESC:évènements pour Ecole
REFRESH-INTERVAL;VALUE=DURATION:PT1H
X-Robots-Tag:noindex
X-PUBLISHED-TTL:PT1H
BEGIN:VTIMEZONE
TZID:Europe/Paris
BEGIN:DAYLIGHT
TZOFFSETFROM:+0100
TZOFFSETTO:+0200
TZNAME:CEST
DTSTART:20260329T010000
END:DAYLIGHT
BEGIN:STANDARD
TZOFFSETFROM:+0200
TZOFFSETTO:+0100
TZNAME:CET
DTSTART:20261025T010000
END:STANDARD
END:VTIMEZONE
BEGIN:VEVENT
DTSTART;TZID=Europe/Paris:20261103T102500
DTEND;TZID=Europe/Paris:20261103T112500
DTSTAMP:20260424T053549
CREATED:20240916T212456Z
LAST-MODIFIED:20240916T212456Z
UID:10002332-1793701500-1793705100@ecole.saintjevin.fr
SUMMARY:Arts plastiques
DESCRIPTION:
URL:https://ecole.saintjevin.fr/event/arts-plastiques/2026-11-03/
CATEGORIES:Arts plastiques
END:VEVENT
BEGIN:VEVENT
DTSTART;TZID=Europe/Paris:20261103T125000
DTEND;TZID=Europe/Paris:20261103T134500
DTSTAMP:20260424T053549
CREATED:20240916T212635Z
LAST-MODIFIED:20240916T212635Z
UID:10002668-1793710200-1793713500@ecole.saintjevin.fr
SUMMARY:Physique-Chimie
DESCRIPTION:
URL:https://ecole.saintjevin.fr/event/physique-chimie/2026-11-03/
CATEGORIES:Physique-Chimie
END:VEVENT
BEGIN:VEVENT
DTSTART;TZID=Europe/Paris:20261103T135000
DTEND;TZID=Europe/Paris:20261103T144500
DTSTAMP:20260424T053549
CREATED:20240916T212729Z
LAST-MODIFIED:20240916T212729Z
UID:10002854-1793713800-1793717100@ecole.saintjevin.fr
SUMMARY:Math
DESCRIPTION:
URL:https://ecole.saintjevin.fr/event/math-2/2026-11-03/
CATEGORIES:Math
END:VEVENT
BEGIN:VEVENT
DTSTART;TZID=Europe/Paris:20261103T150000
DTEND;TZID=Europe/Paris:20261103T155500
DTSTAMP:20260424T053549
CREATED:20240916T212756Z
LAST-MODIFIED:20240916T212756Z
UID:10003115-1793718000-1793721300@ecole.saintjevin.fr
SUMMARY:Math
DESCRIPTION:
URL:https://ecole.saintjevin.fr/event/math-3/2026-11-03/
CATEGORIES:Math
END:VEVENT
BEGIN:VEVENT
DTSTART;TZID=Europe/Paris:20261103T160000
DTEND;TZID=Europe/Paris:20261103T163000
DTSTAMP:20260424T053549
CREATED:20240916T225351Z
LAST-MODIFIED:20240916T225351Z
UID:10007422-1793721600-1793723400@ecole.saintjevin.fr
SUMMARY:Bus scolaire - Collège L.A - 16:07Bus normal - Louis de Vion - 16:06
DESCRIPTION:
URL:https://ecole.saintjevin.fr/event/bus-scolaire-college-l-a-1607bus-normal-louis-de-vion-1606/2026-11-03/
CATEGORIES:Bus soir
END:VEVENT
END:VCALENDAR