BEGIN:VCALENDAR
VERSION:2.0
PRODID:-//Ecole - ECPv6.6.4//NONSGML v1.0//EN
CALSCALE:GREGORIAN
METHOD:PUBLISH
X-WR-CALNAME:Ecole
X-ORIGINAL-URL:https://ecole.saintjevin.fr
X-WR-CALDESC:évènements pour Ecole
REFRESH-INTERVAL;VALUE=DURATION:PT1H
X-Robots-Tag:noindex
X-PUBLISHED-TTL:PT1H
BEGIN:VTIMEZONE
TZID:Europe/Paris
BEGIN:DAYLIGHT
TZOFFSETFROM:+0100
TZOFFSETTO:+0200
TZNAME:CEST
DTSTART:20260329T010000
END:DAYLIGHT
BEGIN:STANDARD
TZOFFSETFROM:+0200
TZOFFSETTO:+0100
TZNAME:CET
DTSTART:20261025T010000
END:STANDARD
END:VTIMEZONE
BEGIN:VEVENT
DTSTART;TZID=Europe/Paris:20260824T160000
DTEND;TZID=Europe/Paris:20260824T165500
DTSTAMP:20260424T001107
CREATED:20240916T213503Z
LAST-MODIFIED:20240916T213503Z
UID:10004279-1787587200-1787590500@ecole.saintjevin.fr
SUMMARY:Math
DESCRIPTION:
URL:https://ecole.saintjevin.fr/event/math-5/2026-08-24/
CATEGORIES:Math
END:VEVENT
BEGIN:VEVENT
DTSTART;TZID=Europe/Paris:20260824T170000
DTEND;TZID=Europe/Paris:20260824T173000
DTSTAMP:20260424T001107
CREATED:20240917T073600Z
LAST-MODIFIED:20240917T073600Z
UID:10009441-1787590800-1787592600@ecole.saintjevin.fr
SUMMARY:Bus scolaire - Collège L.A - 17:05Bus normal - Louis de Vion - 17:09
DESCRIPTION:
URL:https://ecole.saintjevin.fr/event/bus-scolaire-college-l-a-1705bus-normal-louis-de-vion-1709/2026-08-24/
CATEGORIES:Bus soir
END:VEVENT
BEGIN:VEVENT
DTSTART;TZID=Europe/Paris:20260825T083000
DTEND;TZID=Europe/Paris:20260825T090000
DTSTAMP:20260424T001107
CREATED:20240917T073204Z
LAST-MODIFIED:20240917T073204Z
UID:10008848-1787646600-1787648400@ecole.saintjevin.fr
SUMMARY:Bus scolaire – Fort mardi – 8:54
DESCRIPTION:
URL:https://ecole.saintjevin.fr/event/bus-scolaire-fort-mardi-854-2/2026-08-25/
CATEGORIES:Bus matin
END:VEVENT
BEGIN:VEVENT
DTSTART;TZID=Europe/Paris:20260825T091500
DTEND;TZID=Europe/Paris:20260825T101000
DTSTAMP:20260424T001107
CREATED:20240916T212347Z
LAST-MODIFIED:20240916T212347Z
UID:10002061-1787649300-1787652600@ecole.saintjevin.fr
SUMMARY:Français
DESCRIPTION:
URL:https://ecole.saintjevin.fr/event/francais-2-2/2026-08-25/
CATEGORIES:Français
END:VEVENT
BEGIN:VEVENT
DTSTART;TZID=Europe/Paris:20260825T102500
DTEND;TZID=Europe/Paris:20260825T112500
DTSTAMP:20260424T001107
CREATED:20240916T212456Z
LAST-MODIFIED:20240916T212456Z
UID:10002322-1787653500-1787657100@ecole.saintjevin.fr
SUMMARY:Arts plastiques
DESCRIPTION:
URL:https://ecole.saintjevin.fr/event/arts-plastiques/2026-08-25/
CATEGORIES:Arts plastiques
END:VEVENT
BEGIN:VEVENT
DTSTART;TZID=Europe/Paris:20260825T125000
DTEND;TZID=Europe/Paris:20260825T134500
DTSTAMP:20260424T001107
CREATED:20240916T212635Z
LAST-MODIFIED:20240916T212635Z
UID:10002663-1787662200-1787665500@ecole.saintjevin.fr
SUMMARY:Physique-Chimie
DESCRIPTION:
URL:https://ecole.saintjevin.fr/event/physique-chimie/2026-08-25/
CATEGORIES:Physique-Chimie
END:VEVENT
BEGIN:VEVENT
DTSTART;TZID=Europe/Paris:20260825T135000
DTEND;TZID=Europe/Paris:20260825T144500
DTSTAMP:20260424T001107
CREATED:20240916T212729Z
LAST-MODIFIED:20240916T212729Z
UID:10002844-1787665800-1787669100@ecole.saintjevin.fr
SUMMARY:Math
DESCRIPTION:
URL:https://ecole.saintjevin.fr/event/math-2/2026-08-25/
CATEGORIES:Math
END:VEVENT
BEGIN:VEVENT
DTSTART;TZID=Europe/Paris:20260825T150000
DTEND;TZID=Europe/Paris:20260825T155500
DTSTAMP:20260424T001107
CREATED:20240916T212756Z
LAST-MODIFIED:20240916T212756Z
UID:10003105-1787670000-1787673300@ecole.saintjevin.fr
SUMMARY:Math
DESCRIPTION:
URL:https://ecole.saintjevin.fr/event/math-3/2026-08-25/
CATEGORIES:Math
END:VEVENT
BEGIN:VEVENT
DTSTART;TZID=Europe/Paris:20260825T160000
DTEND;TZID=Europe/Paris:20260825T163000
DTSTAMP:20260424T001107
CREATED:20240916T225351Z
LAST-MODIFIED:20240916T225351Z
UID:10007412-1787673600-1787675400@ecole.saintjevin.fr
SUMMARY:Bus scolaire - Collège L.A - 16:07Bus normal - Louis de Vion - 16:06
DESCRIPTION:
URL:https://ecole.saintjevin.fr/event/bus-scolaire-college-l-a-1607bus-normal-louis-de-vion-1606/2026-08-25/
CATEGORIES:Bus soir
END:VEVENT
END:VCALENDAR