BEGIN:VCALENDAR
VERSION:2.0
PRODID:-//Ecole - ECPv6.6.4//NONSGML v1.0//EN
CALSCALE:GREGORIAN
METHOD:PUBLISH
X-WR-CALNAME:Ecole
X-ORIGINAL-URL:https://ecole.saintjevin.fr
X-WR-CALDESC:évènements pour Ecole
REFRESH-INTERVAL;VALUE=DURATION:PT1H
X-Robots-Tag:noindex
X-PUBLISHED-TTL:PT1H
BEGIN:VTIMEZONE
TZID:Europe/Paris
BEGIN:DAYLIGHT
TZOFFSETFROM:+0100
TZOFFSETTO:+0200
TZNAME:CEST
DTSTART:20260329T010000
END:DAYLIGHT
BEGIN:STANDARD
TZOFFSETFROM:+0200
TZOFFSETTO:+0100
TZNAME:CET
DTSTART:20261025T010000
END:STANDARD
END:VTIMEZONE
BEGIN:VEVENT
DTSTART;TZID=Europe/Paris:20260720T135000
DTEND;TZID=Europe/Paris:20260720T144500
DTSTAMP:20260422T211123
CREATED:20240916T213217Z
LAST-MODIFIED:20240916T213217Z
UID:10003704-1784555400-1784558700@ecole.saintjevin.fr
SUMMARY:Musique
DESCRIPTION:
URL:https://ecole.saintjevin.fr/event/musique/2026-07-20/
CATEGORIES:Musique
END:VEVENT
BEGIN:VEVENT
DTSTART;TZID=Europe/Paris:20260720T150000
DTEND;TZID=Europe/Paris:20260720T155500
DTSTAMP:20260422T211123
CREATED:20240916T213349Z
LAST-MODIFIED:20240916T213349Z
UID:10003965-1784559600-1784562900@ecole.saintjevin.fr
SUMMARY:Vie de classe
DESCRIPTION:
URL:https://ecole.saintjevin.fr/event/vie-de-classe/2026-07-20/
CATEGORIES:Vie de classe
END:VEVENT
BEGIN:VEVENT
DTSTART;TZID=Europe/Paris:20260720T160000
DTEND;TZID=Europe/Paris:20260720T165500
DTSTAMP:20260422T211123
CREATED:20240916T213503Z
LAST-MODIFIED:20240916T213503Z
UID:10004274-1784563200-1784566500@ecole.saintjevin.fr
SUMMARY:Math
DESCRIPTION:
URL:https://ecole.saintjevin.fr/event/math-5/2026-07-20/
CATEGORIES:Math
END:VEVENT
BEGIN:VEVENT
DTSTART;TZID=Europe/Paris:20260720T170000
DTEND;TZID=Europe/Paris:20260720T173000
DTSTAMP:20260422T211123
CREATED:20240917T073600Z
LAST-MODIFIED:20240917T073600Z
UID:10009426-1784566800-1784568600@ecole.saintjevin.fr
SUMMARY:Bus scolaire - Collège L.A - 17:05Bus normal - Louis de Vion - 17:09
DESCRIPTION:
URL:https://ecole.saintjevin.fr/event/bus-scolaire-college-l-a-1705bus-normal-louis-de-vion-1709/2026-07-20/
CATEGORIES:Bus soir
END:VEVENT
END:VCALENDAR