BEGIN:VCALENDAR
VERSION:2.0
PRODID:-//Ecole - ECPv6.6.4//NONSGML v1.0//EN
CALSCALE:GREGORIAN
METHOD:PUBLISH
X-WR-CALNAME:Ecole
X-ORIGINAL-URL:https://ecole.saintjevin.fr
X-WR-CALDESC:évènements pour Ecole
REFRESH-INTERVAL;VALUE=DURATION:PT1H
X-Robots-Tag:noindex
X-PUBLISHED-TTL:PT1H
BEGIN:VTIMEZONE
TZID:Europe/Paris
BEGIN:DAYLIGHT
TZOFFSETFROM:+0100
TZOFFSETTO:+0200
TZNAME:CEST
DTSTART:20260329T010000
END:DAYLIGHT
BEGIN:STANDARD
TZOFFSETFROM:+0200
TZOFFSETTO:+0100
TZNAME:CET
DTSTART:20261025T010000
END:STANDARD
END:VTIMEZONE
BEGIN:VEVENT
DTSTART;TZID=Europe/Paris:20260703T112500
DTEND;TZID=Europe/Paris:20260703T122000
DTSTAMP:20260420T061830
CREATED:20240916T214043Z
LAST-MODIFIED:20240916T214043Z
UID:10005967-1783077900-1783081200@ecole.saintjevin.fr
SUMMARY:Anglais
DESCRIPTION:
URL:https://ecole.saintjevin.fr/event/anglais-4/2026-07-03/
CATEGORIES:Anglais
END:VEVENT
BEGIN:VEVENT
DTSTART;TZID=Europe/Paris:20260703T135000
DTEND;TZID=Europe/Paris:20260703T144500
DTSTAMP:20260420T061830
CREATED:20240916T214143Z
LAST-MODIFIED:20240916T214143Z
UID:10006228-1783086600-1783089900@ecole.saintjevin.fr
SUMMARY:Anglais
DESCRIPTION:
URL:https://ecole.saintjevin.fr/event/anglais-5/2026-07-03/
CATEGORIES:Anglais
END:VEVENT
BEGIN:VEVENT
DTSTART;TZID=Europe/Paris:20260703T150000
DTEND;TZID=Europe/Paris:20260703T155500
DTSTAMP:20260420T061830
CREATED:20240916T214348Z
LAST-MODIFIED:20240916T214348Z
UID:10006573-1783090800-1783094100@ecole.saintjevin.fr
SUMMARY:Educ médias
DESCRIPTION:
URL:https://ecole.saintjevin.fr/event/educ-medias/2026-07-03/
CATEGORIES:Educ médias
END:VEVENT
BEGIN:VEVENT
DTSTART;TZID=Europe/Paris:20260703T160000
DTEND;TZID=Europe/Paris:20260703T165500
DTSTAMP:20260420T061830
CREATED:20240916T214417Z
LAST-MODIFIED:20240916T214417Z
UID:10006703-1783094400-1783097700@ecole.saintjevin.fr
SUMMARY:SVT
DESCRIPTION:
URL:https://ecole.saintjevin.fr/event/svt-2/2026-07-03/
CATEGORIES:SVT
END:VEVENT
BEGIN:VEVENT
DTSTART;TZID=Europe/Paris:20260703T170000
DTEND;TZID=Europe/Paris:20260703T173000
DTSTAMP:20260420T061830
CREATED:20240917T073600Z
LAST-MODIFIED:20240917T073600Z
UID:10009419-1783098000-1783099800@ecole.saintjevin.fr
SUMMARY:Bus scolaire - Collège L.A - 17:05Bus normal - Louis de Vion - 17:09
DESCRIPTION:
URL:https://ecole.saintjevin.fr/event/bus-scolaire-college-l-a-1705bus-normal-louis-de-vion-1709/2026-07-03/
CATEGORIES:Bus soir
END:VEVENT
BEGIN:VEVENT
DTSTART;TZID=Europe/Paris:20260703T173000
DTEND;TZID=Europe/Paris:20260703T190000
DTSTAMP:20260420T061830
CREATED:20240917T073810Z
LAST-MODIFIED:20240917T074003Z
UID:10010274-1783099800-1783105200@ecole.saintjevin.fr
SUMMARY:TENNIS 🎾
DESCRIPTION:
URL:https://ecole.saintjevin.fr/event/tennis-2/2026-07-03/
CATEGORIES:TENNIS
END:VEVENT
END:VCALENDAR