BEGIN:VCALENDAR
VERSION:2.0
PRODID:-//Ecole - ECPv6.6.4//NONSGML v1.0//EN
CALSCALE:GREGORIAN
METHOD:PUBLISH
X-WR-CALNAME:Ecole
X-ORIGINAL-URL:https://ecole.saintjevin.fr
X-WR-CALDESC:évènements pour Ecole
REFRESH-INTERVAL;VALUE=DURATION:PT1H
X-Robots-Tag:noindex
X-PUBLISHED-TTL:PT1H
BEGIN:VTIMEZONE
TZID:Europe/Paris
BEGIN:DAYLIGHT
TZOFFSETFROM:+0100
TZOFFSETTO:+0200
TZNAME:CEST
DTSTART:20260329T010000
END:DAYLIGHT
BEGIN:STANDARD
TZOFFSETFROM:+0200
TZOFFSETTO:+0100
TZNAME:CET
DTSTART:20261025T010000
END:STANDARD
END:VTIMEZONE
BEGIN:VEVENT
DTSTART;TZID=Europe/Paris:20260618T135000
DTEND;TZID=Europe/Paris:20260618T144500
DTSTAMP:20260420T132840
CREATED:20240915T162849Z
LAST-MODIFIED:20240915T162849Z
UID:10001008-1781790600-1781793900@ecole.saintjevin.fr
SUMMARY:Anglais
DESCRIPTION:
URL:https://ecole.saintjevin.fr/event/anglais-2/2026-06-18/
CATEGORIES:Anglais
END:VEVENT
BEGIN:VEVENT
DTSTART;TZID=Europe/Paris:20260618T150000
DTEND;TZID=Europe/Paris:20260618T155500
DTSTAMP:20260420T132840
CREATED:20240915T162921Z
LAST-MODIFIED:20240915T162921Z
UID:10001269-1781794800-1781798100@ecole.saintjevin.fr
SUMMARY:Math
DESCRIPTION:
URL:https://ecole.saintjevin.fr/event/math/2026-06-18/
CATEGORIES:Math
END:VEVENT
BEGIN:VEVENT
DTSTART;TZID=Europe/Paris:20260618T160000
DTEND;TZID=Europe/Paris:20260618T165500
DTSTAMP:20260420T132840
CREATED:20240915T162955Z
LAST-MODIFIED:20240915T162955Z
UID:10001530-1781798400-1781801700@ecole.saintjevin.fr
SUMMARY:Français
DESCRIPTION:
URL:https://ecole.saintjevin.fr/event/francais/2026-06-18/
CATEGORIES:Français
END:VEVENT
BEGIN:VEVENT
DTSTART;TZID=Europe/Paris:20260618T170000
DTEND;TZID=Europe/Paris:20260618T173000
DTSTAMP:20260420T132841
CREATED:20240917T073600Z
LAST-MODIFIED:20240917T073600Z
UID:10009412-1781802000-1781803800@ecole.saintjevin.fr
SUMMARY:Bus scolaire - Collège L.A - 17:05Bus normal - Louis de Vion - 17:09
DESCRIPTION:
URL:https://ecole.saintjevin.fr/event/bus-scolaire-college-l-a-1705bus-normal-louis-de-vion-1709/2026-06-18/
CATEGORIES:Bus soir
END:VEVENT
BEGIN:VEVENT
DTSTART;TZID=Europe/Paris:20260619T073000
DTEND;TZID=Europe/Paris:20260619T080000
DTSTAMP:20260420T132841
CREATED:20240917T073304Z
LAST-MODIFIED:20240917T073304Z
UID:10009053-1781854200-1781856000@ecole.saintjevin.fr
SUMMARY:Bus scolaire – Fort mardi – 7:54
DESCRIPTION:
URL:https://ecole.saintjevin.fr/event/bus-scolaire-fort-mardi-754-2/2026-06-19/
CATEGORIES:Bus matin
END:VEVENT
BEGIN:VEVENT
DTSTART;TZID=Europe/Paris:20260619T081500
DTEND;TZID=Europe/Paris:20260619T091000
DTSTAMP:20260420T132841
CREATED:20240916T213902Z
LAST-MODIFIED:20240916T213902Z
UID:10005267-1781856900-1781860200@ecole.saintjevin.fr
SUMMARY:Français
DESCRIPTION:
URL:https://ecole.saintjevin.fr/event/francais-3/2026-06-19/
CATEGORIES:Français
END:VEVENT
BEGIN:VEVENT
DTSTART;TZID=Europe/Paris:20260619T091500
DTEND;TZID=Europe/Paris:20260619T101000
DTSTAMP:20260420T132841
CREATED:20240916T213939Z
LAST-MODIFIED:20240916T213939Z
UID:10005443-1781860500-1781863800@ecole.saintjevin.fr
SUMMARY:Français
DESCRIPTION:
URL:https://ecole.saintjevin.fr/event/francais-4/2026-06-19/
CATEGORIES:Français
END:VEVENT
BEGIN:VEVENT
DTSTART;TZID=Europe/Paris:20260619T102500
DTEND;TZID=Europe/Paris:20260619T112000
DTSTAMP:20260420T132841
CREATED:20240916T214012Z
LAST-MODIFIED:20240916T214012Z
UID:10005704-1781864700-1781868000@ecole.saintjevin.fr
SUMMARY:Histoire-Geo
DESCRIPTION:
URL:https://ecole.saintjevin.fr/event/histoire-geo-3/2026-06-19/
CATEGORIES:Histoire-Geo
END:VEVENT
BEGIN:VEVENT
DTSTART;TZID=Europe/Paris:20260619T112500
DTEND;TZID=Europe/Paris:20260619T122000
DTSTAMP:20260420T132841
CREATED:20240916T214043Z
LAST-MODIFIED:20240916T214043Z
UID:10005965-1781868300-1781871600@ecole.saintjevin.fr
SUMMARY:Anglais
DESCRIPTION:
URL:https://ecole.saintjevin.fr/event/anglais-4/2026-06-19/
CATEGORIES:Anglais
END:VEVENT
BEGIN:VEVENT
DTSTART;TZID=Europe/Paris:20260619T135000
DTEND;TZID=Europe/Paris:20260619T144500
DTSTAMP:20260420T132841
CREATED:20240916T214143Z
LAST-MODIFIED:20240916T214143Z
UID:10006226-1781877000-1781880300@ecole.saintjevin.fr
SUMMARY:Anglais
DESCRIPTION:
URL:https://ecole.saintjevin.fr/event/anglais-5/2026-06-19/
CATEGORIES:Anglais
END:VEVENT
BEGIN:VEVENT
DTSTART;TZID=Europe/Paris:20260619T150000
DTEND;TZID=Europe/Paris:20260619T155500
DTSTAMP:20260420T132841
CREATED:20240916T214348Z
LAST-MODIFIED:20240916T214348Z
UID:10006572-1781881200-1781884500@ecole.saintjevin.fr
SUMMARY:Educ médias
DESCRIPTION:
URL:https://ecole.saintjevin.fr/event/educ-medias/2026-06-19/
CATEGORIES:Educ médias
END:VEVENT
BEGIN:VEVENT
DTSTART;TZID=Europe/Paris:20260619T160000
DTEND;TZID=Europe/Paris:20260619T165500
DTSTAMP:20260420T132841
CREATED:20240916T214417Z
LAST-MODIFIED:20240916T214417Z
UID:10006702-1781884800-1781888100@ecole.saintjevin.fr
SUMMARY:SVT
DESCRIPTION:
URL:https://ecole.saintjevin.fr/event/svt-2/2026-06-19/
CATEGORIES:SVT
END:VEVENT
BEGIN:VEVENT
DTSTART;TZID=Europe/Paris:20260619T170000
DTEND;TZID=Europe/Paris:20260619T173000
DTSTAMP:20260420T132841
CREATED:20240917T073600Z
LAST-MODIFIED:20240917T073600Z
UID:10009413-1781888400-1781890200@ecole.saintjevin.fr
SUMMARY:Bus scolaire - Collège L.A - 17:05Bus normal - Louis de Vion - 17:09
DESCRIPTION:
URL:https://ecole.saintjevin.fr/event/bus-scolaire-college-l-a-1705bus-normal-louis-de-vion-1709/2026-06-19/
CATEGORIES:Bus soir
END:VEVENT
BEGIN:VEVENT
DTSTART;TZID=Europe/Paris:20260619T173000
DTEND;TZID=Europe/Paris:20260619T190000
DTSTAMP:20260420T132841
CREATED:20240917T073810Z
LAST-MODIFIED:20240917T074003Z
UID:10010272-1781890200-1781895600@ecole.saintjevin.fr
SUMMARY:TENNIS 🎾
DESCRIPTION:
URL:https://ecole.saintjevin.fr/event/tennis-2/2026-06-19/
CATEGORIES:TENNIS
END:VEVENT
END:VCALENDAR