BEGIN:VCALENDAR
VERSION:2.0
PRODID:-//Ecole - ECPv6.6.4//NONSGML v1.0//EN
CALSCALE:GREGORIAN
METHOD:PUBLISH
X-WR-CALNAME:Ecole
X-ORIGINAL-URL:https://ecole.saintjevin.fr
X-WR-CALDESC:évènements pour Ecole
REFRESH-INTERVAL;VALUE=DURATION:PT1H
X-Robots-Tag:noindex
X-PUBLISHED-TTL:PT1H
BEGIN:VTIMEZONE
TZID:Europe/Paris
BEGIN:DAYLIGHT
TZOFFSETFROM:+0100
TZOFFSETTO:+0200
TZNAME:CEST
DTSTART:20260329T010000
END:DAYLIGHT
BEGIN:STANDARD
TZOFFSETFROM:+0200
TZOFFSETTO:+0100
TZNAME:CET
DTSTART:20261025T010000
END:STANDARD
END:VTIMEZONE
BEGIN:VEVENT
DTSTART;TZID=Europe/Paris:20260603T102500
DTEND;TZID=Europe/Paris:20260603T122000
DTSTAMP:20260421T093945
CREATED:20240916T213733Z
LAST-MODIFIED:20240916T213733Z
UID:10005050-1780482300-1780489200@ecole.saintjevin.fr
SUMMARY:EPS
DESCRIPTION:
URL:https://ecole.saintjevin.fr/event/eps-2/2026-06-03/
CATEGORIES:EPS
END:VEVENT
BEGIN:VEVENT
DTSTART;TZID=Europe/Paris:20260603T122000
DTEND;TZID=Europe/Paris:20260603T130000
DTSTAMP:20260421T093945
CREATED:20240916T230426Z
LAST-MODIFIED:20240917T073356Z
UID:10007922-1780489200-1780491600@ecole.saintjevin.fr
SUMMARY:Bus scolaire – Collège L.A – 12:30  Bus normal – Louis de Vion – 12:26
DESCRIPTION:
URL:https://ecole.saintjevin.fr/event/bus-scolaire-college-l-a-1230-bus-normal-louis-de-vion-1226/2026-06-03/
CATEGORIES:Bus soir
END:VEVENT
BEGIN:VEVENT
DTSTART;TZID=Europe/Paris:20260603T150000
DTEND;TZID=Europe/Paris:20260603T163000
DTSTAMP:20260421T093945
CREATED:20240917T073720Z
LAST-MODIFIED:20240917T074052Z
UID:10010010-1780498800-1780504200@ecole.saintjevin.fr
SUMMARY:TENNIS 🎾
DESCRIPTION:
URL:https://ecole.saintjevin.fr/event/tennis/2026-06-03/
CATEGORIES:TENNIS
END:VEVENT
END:VCALENDAR