BEGIN:VCALENDAR
VERSION:2.0
PRODID:-//Ecole - ECPv6.6.4//NONSGML v1.0//EN
CALSCALE:GREGORIAN
METHOD:PUBLISH
X-WR-CALNAME:Ecole
X-ORIGINAL-URL:https://ecole.saintjevin.fr
X-WR-CALDESC:évènements pour Ecole
REFRESH-INTERVAL;VALUE=DURATION:PT1H
X-Robots-Tag:noindex
X-PUBLISHED-TTL:PT1H
BEGIN:VTIMEZONE
TZID:Europe/Paris
BEGIN:DAYLIGHT
TZOFFSETFROM:+0100
TZOFFSETTO:+0200
TZNAME:CEST
DTSTART:20260329T010000
END:DAYLIGHT
BEGIN:STANDARD
TZOFFSETFROM:+0200
TZOFFSETTO:+0100
TZNAME:CET
DTSTART:20261025T010000
END:STANDARD
END:VTIMEZONE
BEGIN:VEVENT
DTSTART;TZID=Europe/Paris:20260601T160000
DTEND;TZID=Europe/Paris:20260601T165500
DTSTAMP:20260421T081235
CREATED:20240916T213503Z
LAST-MODIFIED:20240916T213503Z
UID:10004267-1780329600-1780332900@ecole.saintjevin.fr
SUMMARY:Math
DESCRIPTION:
URL:https://ecole.saintjevin.fr/event/math-5/2026-06-01/
CATEGORIES:Math
END:VEVENT
BEGIN:VEVENT
DTSTART;TZID=Europe/Paris:20260601T170000
DTEND;TZID=Europe/Paris:20260601T173000
DTSTAMP:20260421T081235
CREATED:20240917T073600Z
LAST-MODIFIED:20240917T073600Z
UID:10009405-1780333200-1780335000@ecole.saintjevin.fr
SUMMARY:Bus scolaire - Collège L.A - 17:05Bus normal - Louis de Vion - 17:09
DESCRIPTION:
URL:https://ecole.saintjevin.fr/event/bus-scolaire-college-l-a-1705bus-normal-louis-de-vion-1709/2026-06-01/
CATEGORIES:Bus soir
END:VEVENT
BEGIN:VEVENT
DTSTART;TZID=Europe/Paris:20260602T083000
DTEND;TZID=Europe/Paris:20260602T090000
DTSTAMP:20260421T081235
CREATED:20240917T073204Z
LAST-MODIFIED:20240917T073204Z
UID:10008836-1780389000-1780390800@ecole.saintjevin.fr
SUMMARY:Bus scolaire – Fort mardi – 8:54
DESCRIPTION:
URL:https://ecole.saintjevin.fr/event/bus-scolaire-fort-mardi-854-2/2026-06-02/
CATEGORIES:Bus matin
END:VEVENT
BEGIN:VEVENT
DTSTART;TZID=Europe/Paris:20260602T091500
DTEND;TZID=Europe/Paris:20260602T101000
DTSTAMP:20260421T081235
CREATED:20240916T212347Z
LAST-MODIFIED:20240916T212347Z
UID:10002049-1780391700-1780395000@ecole.saintjevin.fr
SUMMARY:Français
DESCRIPTION:
URL:https://ecole.saintjevin.fr/event/francais-2-2/2026-06-02/
CATEGORIES:Français
END:VEVENT
BEGIN:VEVENT
DTSTART;TZID=Europe/Paris:20260602T102500
DTEND;TZID=Europe/Paris:20260602T112500
DTSTAMP:20260421T081235
CREATED:20240916T212456Z
LAST-MODIFIED:20240916T212456Z
UID:10002310-1780395900-1780399500@ecole.saintjevin.fr
SUMMARY:Arts plastiques
DESCRIPTION:
URL:https://ecole.saintjevin.fr/event/arts-plastiques/2026-06-02/
CATEGORIES:Arts plastiques
END:VEVENT
BEGIN:VEVENT
DTSTART;TZID=Europe/Paris:20260602T125000
DTEND;TZID=Europe/Paris:20260602T134500
DTSTAMP:20260421T081235
CREATED:20240916T212635Z
LAST-MODIFIED:20240916T212635Z
UID:10002657-1780404600-1780407900@ecole.saintjevin.fr
SUMMARY:Physique-Chimie
DESCRIPTION:
URL:https://ecole.saintjevin.fr/event/physique-chimie/2026-06-02/
CATEGORIES:Physique-Chimie
END:VEVENT
BEGIN:VEVENT
DTSTART;TZID=Europe/Paris:20260602T135000
DTEND;TZID=Europe/Paris:20260602T144500
DTSTAMP:20260421T081235
CREATED:20240916T212729Z
LAST-MODIFIED:20240916T212729Z
UID:10002832-1780408200-1780411500@ecole.saintjevin.fr
SUMMARY:Math
DESCRIPTION:
URL:https://ecole.saintjevin.fr/event/math-2/2026-06-02/
CATEGORIES:Math
END:VEVENT
BEGIN:VEVENT
DTSTART;TZID=Europe/Paris:20260602T150000
DTEND;TZID=Europe/Paris:20260602T155500
DTSTAMP:20260421T081235
CREATED:20240916T212756Z
LAST-MODIFIED:20240916T212756Z
UID:10003093-1780412400-1780415700@ecole.saintjevin.fr
SUMMARY:Math
DESCRIPTION:
URL:https://ecole.saintjevin.fr/event/math-3/2026-06-02/
CATEGORIES:Math
END:VEVENT
BEGIN:VEVENT
DTSTART;TZID=Europe/Paris:20260602T160000
DTEND;TZID=Europe/Paris:20260602T163000
DTSTAMP:20260421T081235
CREATED:20240916T225351Z
LAST-MODIFIED:20240916T225351Z
UID:10007400-1780416000-1780417800@ecole.saintjevin.fr
SUMMARY:Bus scolaire - Collège L.A - 16:07Bus normal - Louis de Vion - 16:06
DESCRIPTION:
URL:https://ecole.saintjevin.fr/event/bus-scolaire-college-l-a-1607bus-normal-louis-de-vion-1606/2026-06-02/
CATEGORIES:Bus soir
END:VEVENT
BEGIN:VEVENT
DTSTART;TZID=Europe/Paris:20260603T073000
DTEND;TZID=Europe/Paris:20260603T080000
DTSTAMP:20260421T081235
CREATED:20240916T230300Z
LAST-MODIFIED:20240917T072520Z
UID:10007661-1780471800-1780473600@ecole.saintjevin.fr
SUMMARY:Bus scolaire – Fort mardi – 7:54
DESCRIPTION:
URL:https://ecole.saintjevin.fr/event/bus-scolaire-fort-mardi-754/2026-06-03/
CATEGORIES:Bus matin
END:VEVENT
BEGIN:VEVENT
DTSTART;TZID=Europe/Paris:20260603T081500
DTEND;TZID=Europe/Paris:20260603T091000
DTSTAMP:20260421T081235
CREATED:20240916T213622Z
LAST-MODIFIED:20240916T213622Z
UID:10004528-1780474500-1780477800@ecole.saintjevin.fr
SUMMARY:Français
DESCRIPTION:
URL:https://ecole.saintjevin.fr/event/francais-2/2026-06-03/
CATEGORIES:Français
END:VEVENT
BEGIN:VEVENT
DTSTART;TZID=Europe/Paris:20260603T091500
DTEND;TZID=Europe/Paris:20260603T101000
DTSTAMP:20260421T081235
CREATED:20240916T213706Z
LAST-MODIFIED:20240916T213706Z
UID:10004789-1780478100-1780481400@ecole.saintjevin.fr
SUMMARY:Physique-Chimie
DESCRIPTION:
URL:https://ecole.saintjevin.fr/event/physique-chimie-2/2026-06-03/
CATEGORIES:Physique-Chimie
END:VEVENT
BEGIN:VEVENT
DTSTART;TZID=Europe/Paris:20260603T102500
DTEND;TZID=Europe/Paris:20260603T122000
DTSTAMP:20260421T081235
CREATED:20240916T213733Z
LAST-MODIFIED:20240916T213733Z
UID:10005050-1780482300-1780489200@ecole.saintjevin.fr
SUMMARY:EPS
DESCRIPTION:
URL:https://ecole.saintjevin.fr/event/eps-2/2026-06-03/
CATEGORIES:EPS
END:VEVENT
BEGIN:VEVENT
DTSTART;TZID=Europe/Paris:20260603T122000
DTEND;TZID=Europe/Paris:20260603T130000
DTSTAMP:20260421T081235
CREATED:20240916T230426Z
LAST-MODIFIED:20240917T073356Z
UID:10007922-1780489200-1780491600@ecole.saintjevin.fr
SUMMARY:Bus scolaire – Collège L.A – 12:30  Bus normal – Louis de Vion – 12:26
DESCRIPTION:
URL:https://ecole.saintjevin.fr/event/bus-scolaire-college-l-a-1230-bus-normal-louis-de-vion-1226/2026-06-03/
CATEGORIES:Bus soir
END:VEVENT
BEGIN:VEVENT
DTSTART;TZID=Europe/Paris:20260603T150000
DTEND;TZID=Europe/Paris:20260603T163000
DTSTAMP:20260421T081235
CREATED:20240917T073720Z
LAST-MODIFIED:20240917T074052Z
UID:10010010-1780498800-1780504200@ecole.saintjevin.fr
SUMMARY:TENNIS 🎾
DESCRIPTION:
URL:https://ecole.saintjevin.fr/event/tennis/2026-06-03/
CATEGORIES:TENNIS
END:VEVENT
END:VCALENDAR