BEGIN:VCALENDAR
VERSION:2.0
PRODID:-//Ecole - ECPv6.6.4//NONSGML v1.0//EN
CALSCALE:GREGORIAN
METHOD:PUBLISH
X-WR-CALNAME:Ecole
X-ORIGINAL-URL:https://ecole.saintjevin.fr
X-WR-CALDESC:évènements pour Ecole
REFRESH-INTERVAL;VALUE=DURATION:PT1H
X-Robots-Tag:noindex
X-PUBLISHED-TTL:PT1H
BEGIN:VTIMEZONE
TZID:Europe/Paris
BEGIN:DAYLIGHT
TZOFFSETFROM:+0100
TZOFFSETTO:+0200
TZNAME:CEST
DTSTART:20260329T010000
END:DAYLIGHT
BEGIN:STANDARD
TZOFFSETFROM:+0200
TZOFFSETTO:+0100
TZNAME:CET
DTSTART:20261025T010000
END:STANDARD
END:VTIMEZONE
BEGIN:VEVENT
DTSTART;TZID=Europe/Paris:20260526T085000
DTEND;TZID=Europe/Paris:20260526T090000
DTSTAMP:20260419T170655
CREATED:20240916T225112Z
LAST-MODIFIED:20240917T072258Z
UID:10007138-1779785400-1779786000@ecole.saintjevin.fr
SUMMARY:Bus scolaire - Fort mardi - 8:54
DESCRIPTION:
URL:https://ecole.saintjevin.fr/event/bus-scolaire-fort-mardi-854/2026-05-26/
CATEGORIES:Bus matin
END:VEVENT
BEGIN:VEVENT
DTSTART;TZID=Europe/Paris:20260526T091500
DTEND;TZID=Europe/Paris:20260526T101000
DTSTAMP:20260419T170655
CREATED:20240916T212347Z
LAST-MODIFIED:20240916T212347Z
UID:10002048-1779786900-1779790200@ecole.saintjevin.fr
SUMMARY:Français
DESCRIPTION:
URL:https://ecole.saintjevin.fr/event/francais-2-2/2026-05-26/
CATEGORIES:Français
END:VEVENT
BEGIN:VEVENT
DTSTART;TZID=Europe/Paris:20260526T102500
DTEND;TZID=Europe/Paris:20260526T112500
DTSTAMP:20260419T170655
CREATED:20240916T212456Z
LAST-MODIFIED:20240916T212456Z
UID:10002309-1779791100-1779794700@ecole.saintjevin.fr
SUMMARY:Arts plastiques
DESCRIPTION:
URL:https://ecole.saintjevin.fr/event/arts-plastiques/2026-05-26/
CATEGORIES:Arts plastiques
END:VEVENT
BEGIN:VEVENT
DTSTART;TZID=Europe/Paris:20260526T125000
DTEND;TZID=Europe/Paris:20260526T134500
DTSTAMP:20260419T170655
CREATED:20240916T212543Z
LAST-MODIFIED:20240916T212543Z
UID:10002526-1779799800-1779803100@ecole.saintjevin.fr
SUMMARY:Histoire-Geo
DESCRIPTION:
URL:https://ecole.saintjevin.fr/event/histoire-geo-2/2026-05-26/
CATEGORIES:Histoire-Geo
END:VEVENT
BEGIN:VEVENT
DTSTART;TZID=Europe/Paris:20260526T135000
DTEND;TZID=Europe/Paris:20260526T144500
DTSTAMP:20260419T170655
CREATED:20240916T212729Z
LAST-MODIFIED:20240916T212729Z
UID:10002831-1779803400-1779806700@ecole.saintjevin.fr
SUMMARY:Math
DESCRIPTION:
URL:https://ecole.saintjevin.fr/event/math-2/2026-05-26/
CATEGORIES:Math
END:VEVENT
BEGIN:VEVENT
DTSTART;TZID=Europe/Paris:20260526T150000
DTEND;TZID=Europe/Paris:20260526T155500
DTSTAMP:20260419T170655
CREATED:20240916T212756Z
LAST-MODIFIED:20240916T212756Z
UID:10003092-1779807600-1779810900@ecole.saintjevin.fr
SUMMARY:Math
DESCRIPTION:
URL:https://ecole.saintjevin.fr/event/math-3/2026-05-26/
CATEGORIES:Math
END:VEVENT
BEGIN:VEVENT
DTSTART;TZID=Europe/Paris:20260526T160000
DTEND;TZID=Europe/Paris:20260526T163000
DTSTAMP:20260419T170655
CREATED:20240916T225351Z
LAST-MODIFIED:20240916T225351Z
UID:10007399-1779811200-1779813000@ecole.saintjevin.fr
SUMMARY:Bus scolaire - Collège L.A - 16:07Bus normal - Louis de Vion - 16:06
DESCRIPTION:
URL:https://ecole.saintjevin.fr/event/bus-scolaire-college-l-a-1607bus-normal-louis-de-vion-1606/2026-05-26/
CATEGORIES:Bus soir
END:VEVENT
END:VCALENDAR