BEGIN:VCALENDAR
VERSION:2.0
PRODID:-//Ecole - ECPv6.6.4//NONSGML v1.0//EN
CALSCALE:GREGORIAN
METHOD:PUBLISH
X-WR-CALNAME:Ecole
X-ORIGINAL-URL:https://ecole.saintjevin.fr
X-WR-CALDESC:évènements pour Ecole
REFRESH-INTERVAL;VALUE=DURATION:PT1H
X-Robots-Tag:noindex
X-PUBLISHED-TTL:PT1H
BEGIN:VTIMEZONE
TZID:Europe/Paris
BEGIN:DAYLIGHT
TZOFFSETFROM:+0100
TZOFFSETTO:+0200
TZNAME:CEST
DTSTART:20260329T010000
END:DAYLIGHT
BEGIN:STANDARD
TZOFFSETFROM:+0200
TZOFFSETTO:+0100
TZNAME:CET
DTSTART:20261025T010000
END:STANDARD
END:VTIMEZONE
BEGIN:VEVENT
DTSTART;VALUE=DATE:20260420
DTEND;VALUE=DATE:20260425
DTSTAMP:20260423T020514
CREATED:20240916T221742Z
LAST-MODIFIED:20240916T222345Z
UID:10006960-1776643200-1777075199@ecole.saintjevin.fr
SUMMARY:Semaine B
DESCRIPTION:
URL:https://ecole.saintjevin.fr/event/semaine-b/2026-04-20/
CATEGORIES:Semaine
END:VEVENT
BEGIN:VEVENT
DTSTART;TZID=Europe/Paris:20260423T073000
DTEND;TZID=Europe/Paris:20260423T080000
DTSTAMP:20260423T020514
CREATED:20240916T230300Z
LAST-MODIFIED:20240917T072520Z
UID:10008438-1776929400-1776931200@ecole.saintjevin.fr
SUMMARY:Bus scolaire – Fort mardi – 7:54
DESCRIPTION:
URL:https://ecole.saintjevin.fr/event/bus-scolaire-fort-mardi-754/2026-04-23/
CATEGORIES:Bus matin
END:VEVENT
BEGIN:VEVENT
DTSTART;TZID=Europe/Paris:20260423T081500
DTEND;TZID=Europe/Paris:20260423T091000
DTSTAMP:20260423T020514
CREATED:20240915T162322Z
LAST-MODIFIED:20240915T162322Z
UID:10000086-1776932100-1776935400@ecole.saintjevin.fr
SUMMARY:Accompagnement apprentissage
DESCRIPTION:
URL:https://ecole.saintjevin.fr/event/accompagnement-apprentissage/2026-04-23/
CATEGORIES:Accompagnement apprentissage
END:VEVENT
BEGIN:VEVENT
DTSTART;TZID=Europe/Paris:20260423T091500
DTEND;TZID=Europe/Paris:20260423T101000
DTSTAMP:20260423T020514
CREATED:20240915T162441Z
LAST-MODIFIED:20240915T162441Z
UID:10000347-1776935700-1776939000@ecole.saintjevin.fr
SUMMARY:SVT
DESCRIPTION:
URL:https://ecole.saintjevin.fr/event/svt/2026-04-23/
CATEGORIES:SVT
END:VEVENT
BEGIN:VEVENT
DTSTART;TZID=Europe/Paris:20260423T125000
DTEND;TZID=Europe/Paris:20260423T134500
DTSTAMP:20260423T020514
CREATED:20240915T162814Z
LAST-MODIFIED:20240915T162814Z
UID:10000739-1776948600-1776951900@ecole.saintjevin.fr
SUMMARY:Histoire-Géo
DESCRIPTION:
URL:https://ecole.saintjevin.fr/event/histoire-geo/2026-04-23/
CATEGORIES:Histoire-Geo
END:VEVENT
BEGIN:VEVENT
DTSTART;TZID=Europe/Paris:20260423T135000
DTEND;TZID=Europe/Paris:20260423T144500
DTSTAMP:20260423T020514
CREATED:20240915T162849Z
LAST-MODIFIED:20240915T162849Z
UID:10001000-1776952200-1776955500@ecole.saintjevin.fr
SUMMARY:Anglais
DESCRIPTION:
URL:https://ecole.saintjevin.fr/event/anglais-2/2026-04-23/
CATEGORIES:Anglais
END:VEVENT
BEGIN:VEVENT
DTSTART;TZID=Europe/Paris:20260423T150000
DTEND;TZID=Europe/Paris:20260423T155500
DTSTAMP:20260423T020514
CREATED:20240915T162921Z
LAST-MODIFIED:20240915T162921Z
UID:10001261-1776956400-1776959700@ecole.saintjevin.fr
SUMMARY:Math
DESCRIPTION:
URL:https://ecole.saintjevin.fr/event/math/2026-04-23/
CATEGORIES:Math
END:VEVENT
BEGIN:VEVENT
DTSTART;TZID=Europe/Paris:20260423T160000
DTEND;TZID=Europe/Paris:20260423T165500
DTSTAMP:20260423T020514
CREATED:20240915T162955Z
LAST-MODIFIED:20240915T162955Z
UID:10001522-1776960000-1776963300@ecole.saintjevin.fr
SUMMARY:Français
DESCRIPTION:
URL:https://ecole.saintjevin.fr/event/francais/2026-04-23/
CATEGORIES:Français
END:VEVENT
BEGIN:VEVENT
DTSTART;TZID=Europe/Paris:20260423T170000
DTEND;TZID=Europe/Paris:20260423T173000
DTSTAMP:20260423T020514
CREATED:20240917T073600Z
LAST-MODIFIED:20240917T073600Z
UID:10009388-1776963600-1776965400@ecole.saintjevin.fr
SUMMARY:Bus scolaire - Collège L.A - 17:05Bus normal - Louis de Vion - 17:09
DESCRIPTION:
URL:https://ecole.saintjevin.fr/event/bus-scolaire-college-l-a-1705bus-normal-louis-de-vion-1709/2026-04-23/
CATEGORIES:Bus soir
END:VEVENT
END:VCALENDAR